BEGIN:VCALENDAR
VERSION:2.0
PRODID:-//All Saints Episcopal Church - ECPv6.15.20//NONSGML v1.0//EN
CALSCALE:GREGORIAN
METHOD:PUBLISH
X-WR-CALNAME:All Saints Episcopal Church
X-ORIGINAL-URL:https://allsaintsfl.org
X-WR-CALDESC:Events for All Saints Episcopal Church
REFRESH-INTERVAL;VALUE=DURATION:PT1H
X-Robots-Tag:noindex
X-PUBLISHED-TTL:PT1H
BEGIN:VTIMEZONE
TZID:America/New_York
BEGIN:DAYLIGHT
TZOFFSETFROM:-0500
TZOFFSETTO:-0400
TZNAME:EDT
DTSTART:20240310T070000
END:DAYLIGHT
BEGIN:STANDARD
TZOFFSETFROM:-0400
TZOFFSETTO:-0500
TZNAME:EST
DTSTART:20241103T060000
END:STANDARD
BEGIN:DAYLIGHT
TZOFFSETFROM:-0500
TZOFFSETTO:-0400
TZNAME:EDT
DTSTART:20250309T070000
END:DAYLIGHT
BEGIN:STANDARD
TZOFFSETFROM:-0400
TZOFFSETTO:-0500
TZNAME:EST
DTSTART:20251102T060000
END:STANDARD
BEGIN:DAYLIGHT
TZOFFSETFROM:-0500
TZOFFSETTO:-0400
TZNAME:EDT
DTSTART:20260308T070000
END:DAYLIGHT
BEGIN:STANDARD
TZOFFSETFROM:-0400
TZOFFSETTO:-0500
TZNAME:EST
DTSTART:20261101T060000
END:STANDARD
END:VTIMEZONE
BEGIN:VEVENT
DTSTART;TZID=America/New_York:20250301T193000
DTEND;TZID=America/New_York:20250301T210000
DTSTAMP:20260419T102309
CREATED:20240729T204522Z
LAST-MODIFIED:20250227T223636Z
UID:10007706-1740857400-1740862800@allsaintsfl.org
SUMMARY:Seraphic Fire Concert
DESCRIPTION:“Enlightenment Festival – Romantic: Schumann & Mendelsohn” \nWe are only a couple of days away from the Seraphic Fire Concert\, “Enlightenment Festival — Classical: Martines\, Mozart & Haydn\,”\nthis Saturday\, March 8\, 2025\, from 7:30 to 9 p.m. at our church. \nFor program information\, tickets and/or subscriptions please go to the Seraphic Fire website at:\nwww.seraphicfire.org 
URL:https://allsaintsfl.org/events/seraphic-fire-concert-10/
CATEGORIES:Events,Music
END:VEVENT
BEGIN:VEVENT
DTSTART;TZID=America/New_York:20250308T193000
DTEND;TZID=America/New_York:20250308T210000
DTSTAMP:20260419T102309
CREATED:20240729T204652Z
LAST-MODIFIED:20240729T204652Z
UID:10007707-1741462200-1741467600@allsaintsfl.org
SUMMARY:Seraphic Fire Concert
DESCRIPTION:“Enlightenment Festival – Classical: Martines\, Mozart & Haydn” \nMore information to be provided at a date closer to the performance. \nFor program information\, tickets and/or subscriptions please go to the Seraphic Fire website at:\nwww.seraphicfire.org 
URL:https://allsaintsfl.org/events/seraphic-fire-concert-11/
CATEGORIES:Events,Music
END:VEVENT
END:VCALENDAR