BEGIN:VCALENDAR
VERSION:2.0
PRODID:-//All Saints Episcopal Church - ECPv6.15.20//NONSGML v1.0//EN
CALSCALE:GREGORIAN
METHOD:PUBLISH
X-ORIGINAL-URL:https://allsaintsfl.org
X-WR-CALDESC:Events for All Saints Episcopal Church
REFRESH-INTERVAL;VALUE=DURATION:PT1H
X-Robots-Tag:noindex
X-PUBLISHED-TTL:PT1H
BEGIN:VTIMEZONE
TZID:America/New_York
BEGIN:DAYLIGHT
TZOFFSETFROM:-0500
TZOFFSETTO:-0400
TZNAME:EDT
DTSTART:20240310T070000
END:DAYLIGHT
BEGIN:STANDARD
TZOFFSETFROM:-0400
TZOFFSETTO:-0500
TZNAME:EST
DTSTART:20241103T060000
END:STANDARD
BEGIN:DAYLIGHT
TZOFFSETFROM:-0500
TZOFFSETTO:-0400
TZNAME:EDT
DTSTART:20250309T070000
END:DAYLIGHT
BEGIN:STANDARD
TZOFFSETFROM:-0400
TZOFFSETTO:-0500
TZNAME:EST
DTSTART:20251102T060000
END:STANDARD
BEGIN:DAYLIGHT
TZOFFSETFROM:-0500
TZOFFSETTO:-0400
TZNAME:EDT
DTSTART:20260308T070000
END:DAYLIGHT
BEGIN:STANDARD
TZOFFSETFROM:-0400
TZOFFSETTO:-0500
TZNAME:EST
DTSTART:20261101T060000
END:STANDARD
END:VTIMEZONE
BEGIN:VEVENT
DTSTART;TZID=America/New_York:20250901T203000
DTEND;TZID=America/New_York:20250901T210000
DTSTAMP:20260423T031213
CREATED:20240213T192859Z
LAST-MODIFIED:20240213T193313Z
UID:10006571-1756758600-1756760400@allsaintsfl.org
SUMMARY:Compline (Prayers at the end of day) – Live-streamed each night except Thursday
DESCRIPTION:Join us for evening prayer on FaceBook Live or on Vimeo.  Go to https://facebook.com/asecfl and scroll down until you see “LIVE” or join us on  All Saints’ Vimeo Page at https://vimeo.com/allsaintsftl
URL:https://allsaintsfl.org/events/compline-prayers-at-the-end-of-day-live-streamed-each-night-except-thursday-8-2/2025-09-01/
CATEGORIES:Worship
END:VEVENT
BEGIN:VEVENT
DTSTART;TZID=America/New_York:20250902T203000
DTEND;TZID=America/New_York:20250902T210000
DTSTAMP:20260423T031213
CREATED:20240213T192859Z
LAST-MODIFIED:20240213T193313Z
UID:10006572-1756845000-1756846800@allsaintsfl.org
SUMMARY:Compline (Prayers at the end of day) – Live-streamed each night except Thursday
DESCRIPTION:Join us for evening prayer on FaceBook Live or on Vimeo.  Go to https://facebook.com/asecfl and scroll down until you see “LIVE” or join us on  All Saints’ Vimeo Page at https://vimeo.com/allsaintsftl
URL:https://allsaintsfl.org/events/compline-prayers-at-the-end-of-day-live-streamed-each-night-except-thursday-8-2/2025-09-02/
CATEGORIES:Worship
END:VEVENT
BEGIN:VEVENT
DTSTART;TZID=America/New_York:20250903T120000
DTEND;TZID=America/New_York:20250903T130000
DTSTAMP:20260423T031213
CREATED:20231021T162524Z
LAST-MODIFIED:20240213T192227Z
UID:10002155-1756900800-1756904400@allsaintsfl.org
SUMMARY:Wednesday Healing Eucharist
DESCRIPTION:Join us each Wednesday at 12:05 p.m. for a special service of prayer for healing followed by the Holy Eucharist.  This service is held in St. Luke’s chapel on the river side of the church. \nYou may attend in person or via livestream on Vimeo and Facebook Live.  The links for the livestream are posted on the Home Page each week.
URL:https://allsaintsfl.org/events/wednesday-healing-eucharist-2/2025-09-03/
LOCATION:St. Luke’s Chapel
CATEGORIES:Events,Worship
END:VEVENT
BEGIN:VEVENT
DTSTART;TZID=America/New_York:20250903T203000
DTEND;TZID=America/New_York:20250903T210000
DTSTAMP:20260423T031213
CREATED:20240213T192859Z
LAST-MODIFIED:20240213T193313Z
UID:10006573-1756931400-1756933200@allsaintsfl.org
SUMMARY:Compline (Prayers at the end of day) – Live-streamed each night except Thursday
DESCRIPTION:Join us for evening prayer on FaceBook Live or on Vimeo.  Go to https://facebook.com/asecfl and scroll down until you see “LIVE” or join us on  All Saints’ Vimeo Page at https://vimeo.com/allsaintsftl
URL:https://allsaintsfl.org/events/compline-prayers-at-the-end-of-day-live-streamed-each-night-except-thursday-8-2/2025-09-03/
CATEGORIES:Worship
END:VEVENT
BEGIN:VEVENT
DTSTART;TZID=America/New_York:20250905T203000
DTEND;TZID=America/New_York:20250905T210000
DTSTAMP:20260423T031214
CREATED:20240213T192859Z
LAST-MODIFIED:20240213T193313Z
UID:10006574-1757104200-1757106000@allsaintsfl.org
SUMMARY:Compline (Prayers at the end of day) – Live-streamed each night except Thursday
DESCRIPTION:Join us for evening prayer on FaceBook Live or on Vimeo.  Go to https://facebook.com/asecfl and scroll down until you see “LIVE” or join us on  All Saints’ Vimeo Page at https://vimeo.com/allsaintsftl
URL:https://allsaintsfl.org/events/compline-prayers-at-the-end-of-day-live-streamed-each-night-except-thursday-8-2/2025-09-05/
CATEGORIES:Worship
END:VEVENT
BEGIN:VEVENT
DTSTART;TZID=America/New_York:20250906T203000
DTEND;TZID=America/New_York:20250906T210000
DTSTAMP:20260423T031214
CREATED:20240213T192859Z
LAST-MODIFIED:20240213T193313Z
UID:10006575-1757190600-1757192400@allsaintsfl.org
SUMMARY:Compline (Prayers at the end of day) – Live-streamed each night except Thursday
DESCRIPTION:Join us for evening prayer on FaceBook Live or on Vimeo.  Go to https://facebook.com/asecfl and scroll down until you see “LIVE” or join us on  All Saints’ Vimeo Page at https://vimeo.com/allsaintsftl
URL:https://allsaintsfl.org/events/compline-prayers-at-the-end-of-day-live-streamed-each-night-except-thursday-8-2/2025-09-06/
CATEGORIES:Worship
END:VEVENT
BEGIN:VEVENT
DTSTART;TZID=America/New_York:20250907T203000
DTEND;TZID=America/New_York:20250907T210000
DTSTAMP:20260423T031214
CREATED:20240213T192859Z
LAST-MODIFIED:20240213T193313Z
UID:10005950-1757277000-1757278800@allsaintsfl.org
SUMMARY:Compline (Prayers at the end of day) – Live-streamed each night except Thursday
DESCRIPTION:Join us for evening prayer on FaceBook Live or on Vimeo.  Go to https://facebook.com/asecfl and scroll down until you see “LIVE” or join us on  All Saints’ Vimeo Page at https://vimeo.com/allsaintsftl
URL:https://allsaintsfl.org/events/compline-prayers-at-the-end-of-day-live-streamed-each-night-except-thursday-8-2/2025-09-07/
CATEGORIES:Worship
END:VEVENT
BEGIN:VEVENT
DTSTART;TZID=America/New_York:20250908T203000
DTEND;TZID=America/New_York:20250908T210000
DTSTAMP:20260423T031214
CREATED:20240213T192859Z
LAST-MODIFIED:20240213T193313Z
UID:10006576-1757363400-1757365200@allsaintsfl.org
SUMMARY:Compline (Prayers at the end of day) – Live-streamed each night except Thursday
DESCRIPTION:Join us for evening prayer on FaceBook Live or on Vimeo.  Go to https://facebook.com/asecfl and scroll down until you see “LIVE” or join us on  All Saints’ Vimeo Page at https://vimeo.com/allsaintsftl
URL:https://allsaintsfl.org/events/compline-prayers-at-the-end-of-day-live-streamed-each-night-except-thursday-8-2/2025-09-08/
CATEGORIES:Worship
END:VEVENT
BEGIN:VEVENT
DTSTART;TZID=America/New_York:20250909T203000
DTEND;TZID=America/New_York:20250909T210000
DTSTAMP:20260423T031214
CREATED:20240213T192859Z
LAST-MODIFIED:20240213T193313Z
UID:10006577-1757449800-1757451600@allsaintsfl.org
SUMMARY:Compline (Prayers at the end of day) – Live-streamed each night except Thursday
DESCRIPTION:Join us for evening prayer on FaceBook Live or on Vimeo.  Go to https://facebook.com/asecfl and scroll down until you see “LIVE” or join us on  All Saints’ Vimeo Page at https://vimeo.com/allsaintsftl
URL:https://allsaintsfl.org/events/compline-prayers-at-the-end-of-day-live-streamed-each-night-except-thursday-8-2/2025-09-09/
CATEGORIES:Worship
END:VEVENT
BEGIN:VEVENT
DTSTART;TZID=America/New_York:20250910T120000
DTEND;TZID=America/New_York:20250910T130000
DTSTAMP:20260423T031214
CREATED:20231021T162524Z
LAST-MODIFIED:20240213T192227Z
UID:10002156-1757505600-1757509200@allsaintsfl.org
SUMMARY:Wednesday Healing Eucharist
DESCRIPTION:Join us each Wednesday at 12:05 p.m. for a special service of prayer for healing followed by the Holy Eucharist.  This service is held in St. Luke’s chapel on the river side of the church. \nYou may attend in person or via livestream on Vimeo and Facebook Live.  The links for the livestream are posted on the Home Page each week.
URL:https://allsaintsfl.org/events/wednesday-healing-eucharist-2/2025-09-10/
LOCATION:St. Luke’s Chapel
CATEGORIES:Events,Worship
END:VEVENT
BEGIN:VEVENT
DTSTART;TZID=America/New_York:20250910T203000
DTEND;TZID=America/New_York:20250910T210000
DTSTAMP:20260423T031214
CREATED:20240213T192859Z
LAST-MODIFIED:20240213T193313Z
UID:10006578-1757536200-1757538000@allsaintsfl.org
SUMMARY:Compline (Prayers at the end of day) – Live-streamed each night except Thursday
DESCRIPTION:Join us for evening prayer on FaceBook Live or on Vimeo.  Go to https://facebook.com/asecfl and scroll down until you see “LIVE” or join us on  All Saints’ Vimeo Page at https://vimeo.com/allsaintsftl
URL:https://allsaintsfl.org/events/compline-prayers-at-the-end-of-day-live-streamed-each-night-except-thursday-8-2/2025-09-10/
CATEGORIES:Worship
END:VEVENT
BEGIN:VEVENT
DTSTART;TZID=America/New_York:20250912T203000
DTEND;TZID=America/New_York:20250912T210000
DTSTAMP:20260423T031214
CREATED:20240213T192859Z
LAST-MODIFIED:20240213T193313Z
UID:10006579-1757709000-1757710800@allsaintsfl.org
SUMMARY:Compline (Prayers at the end of day) – Live-streamed each night except Thursday
DESCRIPTION:Join us for evening prayer on FaceBook Live or on Vimeo.  Go to https://facebook.com/asecfl and scroll down until you see “LIVE” or join us on  All Saints’ Vimeo Page at https://vimeo.com/allsaintsftl
URL:https://allsaintsfl.org/events/compline-prayers-at-the-end-of-day-live-streamed-each-night-except-thursday-8-2/2025-09-12/
CATEGORIES:Worship
END:VEVENT
BEGIN:VEVENT
DTSTART;TZID=America/New_York:20250913T203000
DTEND;TZID=America/New_York:20250913T210000
DTSTAMP:20260423T031214
CREATED:20240213T192859Z
LAST-MODIFIED:20240213T193313Z
UID:10006580-1757795400-1757797200@allsaintsfl.org
SUMMARY:Compline (Prayers at the end of day) – Live-streamed each night except Thursday
DESCRIPTION:Join us for evening prayer on FaceBook Live or on Vimeo.  Go to https://facebook.com/asecfl and scroll down until you see “LIVE” or join us on  All Saints’ Vimeo Page at https://vimeo.com/allsaintsftl
URL:https://allsaintsfl.org/events/compline-prayers-at-the-end-of-day-live-streamed-each-night-except-thursday-8-2/2025-09-13/
CATEGORIES:Worship
END:VEVENT
BEGIN:VEVENT
DTSTART;TZID=America/New_York:20250914T203000
DTEND;TZID=America/New_York:20250914T210000
DTSTAMP:20260423T031214
CREATED:20240213T192859Z
LAST-MODIFIED:20240213T193313Z
UID:10005951-1757881800-1757883600@allsaintsfl.org
SUMMARY:Compline (Prayers at the end of day) – Live-streamed each night except Thursday
DESCRIPTION:Join us for evening prayer on FaceBook Live or on Vimeo.  Go to https://facebook.com/asecfl and scroll down until you see “LIVE” or join us on  All Saints’ Vimeo Page at https://vimeo.com/allsaintsftl
URL:https://allsaintsfl.org/events/compline-prayers-at-the-end-of-day-live-streamed-each-night-except-thursday-8-2/2025-09-14/
CATEGORIES:Worship
END:VEVENT
BEGIN:VEVENT
DTSTART;TZID=America/New_York:20250915T203000
DTEND;TZID=America/New_York:20250915T210000
DTSTAMP:20260423T031214
CREATED:20240213T192859Z
LAST-MODIFIED:20240213T193313Z
UID:10006581-1757968200-1757970000@allsaintsfl.org
SUMMARY:Compline (Prayers at the end of day) – Live-streamed each night except Thursday
DESCRIPTION:Join us for evening prayer on FaceBook Live or on Vimeo.  Go to https://facebook.com/asecfl and scroll down until you see “LIVE” or join us on  All Saints’ Vimeo Page at https://vimeo.com/allsaintsftl
URL:https://allsaintsfl.org/events/compline-prayers-at-the-end-of-day-live-streamed-each-night-except-thursday-8-2/2025-09-15/
CATEGORIES:Worship
END:VEVENT
BEGIN:VEVENT
DTSTART;TZID=America/New_York:20250916T203000
DTEND;TZID=America/New_York:20250916T210000
DTSTAMP:20260423T031214
CREATED:20240213T192859Z
LAST-MODIFIED:20240213T193313Z
UID:10006582-1758054600-1758056400@allsaintsfl.org
SUMMARY:Compline (Prayers at the end of day) – Live-streamed each night except Thursday
DESCRIPTION:Join us for evening prayer on FaceBook Live or on Vimeo.  Go to https://facebook.com/asecfl and scroll down until you see “LIVE” or join us on  All Saints’ Vimeo Page at https://vimeo.com/allsaintsftl
URL:https://allsaintsfl.org/events/compline-prayers-at-the-end-of-day-live-streamed-each-night-except-thursday-8-2/2025-09-16/
CATEGORIES:Worship
END:VEVENT
BEGIN:VEVENT
DTSTART;TZID=America/New_York:20250917T120000
DTEND;TZID=America/New_York:20250917T130000
DTSTAMP:20260423T031214
CREATED:20231021T162524Z
LAST-MODIFIED:20240213T192227Z
UID:10002157-1758110400-1758114000@allsaintsfl.org
SUMMARY:Wednesday Healing Eucharist
DESCRIPTION:Join us each Wednesday at 12:05 p.m. for a special service of prayer for healing followed by the Holy Eucharist.  This service is held in St. Luke’s chapel on the river side of the church. \nYou may attend in person or via livestream on Vimeo and Facebook Live.  The links for the livestream are posted on the Home Page each week.
URL:https://allsaintsfl.org/events/wednesday-healing-eucharist-2/2025-09-17/
LOCATION:St. Luke’s Chapel
CATEGORIES:Events,Worship
END:VEVENT
BEGIN:VEVENT
DTSTART;TZID=America/New_York:20250917T203000
DTEND;TZID=America/New_York:20250917T210000
DTSTAMP:20260423T031214
CREATED:20240213T192859Z
LAST-MODIFIED:20240213T193313Z
UID:10006583-1758141000-1758142800@allsaintsfl.org
SUMMARY:Compline (Prayers at the end of day) – Live-streamed each night except Thursday
DESCRIPTION:Join us for evening prayer on FaceBook Live or on Vimeo.  Go to https://facebook.com/asecfl and scroll down until you see “LIVE” or join us on  All Saints’ Vimeo Page at https://vimeo.com/allsaintsftl
URL:https://allsaintsfl.org/events/compline-prayers-at-the-end-of-day-live-streamed-each-night-except-thursday-8-2/2025-09-17/
CATEGORIES:Worship
END:VEVENT
BEGIN:VEVENT
DTSTART;TZID=America/New_York:20250919T203000
DTEND;TZID=America/New_York:20250919T210000
DTSTAMP:20260423T031214
CREATED:20240213T192859Z
LAST-MODIFIED:20240213T193313Z
UID:10006584-1758313800-1758315600@allsaintsfl.org
SUMMARY:Compline (Prayers at the end of day) – Live-streamed each night except Thursday
DESCRIPTION:Join us for evening prayer on FaceBook Live or on Vimeo.  Go to https://facebook.com/asecfl and scroll down until you see “LIVE” or join us on  All Saints’ Vimeo Page at https://vimeo.com/allsaintsftl
URL:https://allsaintsfl.org/events/compline-prayers-at-the-end-of-day-live-streamed-each-night-except-thursday-8-2/2025-09-19/
CATEGORIES:Worship
END:VEVENT
BEGIN:VEVENT
DTSTART;TZID=America/New_York:20250920T203000
DTEND;TZID=America/New_York:20250920T210000
DTSTAMP:20260423T031214
CREATED:20240213T192859Z
LAST-MODIFIED:20240213T193313Z
UID:10006585-1758400200-1758402000@allsaintsfl.org
SUMMARY:Compline (Prayers at the end of day) – Live-streamed each night except Thursday
DESCRIPTION:Join us for evening prayer on FaceBook Live or on Vimeo.  Go to https://facebook.com/asecfl and scroll down until you see “LIVE” or join us on  All Saints’ Vimeo Page at https://vimeo.com/allsaintsftl
URL:https://allsaintsfl.org/events/compline-prayers-at-the-end-of-day-live-streamed-each-night-except-thursday-8-2/2025-09-20/
CATEGORIES:Worship
END:VEVENT
BEGIN:VEVENT
DTSTART;TZID=America/New_York:20250921T203000
DTEND;TZID=America/New_York:20250921T210000
DTSTAMP:20260423T031214
CREATED:20240213T192859Z
LAST-MODIFIED:20240213T193313Z
UID:10005952-1758486600-1758488400@allsaintsfl.org
SUMMARY:Compline (Prayers at the end of day) – Live-streamed each night except Thursday
DESCRIPTION:Join us for evening prayer on FaceBook Live or on Vimeo.  Go to https://facebook.com/asecfl and scroll down until you see “LIVE” or join us on  All Saints’ Vimeo Page at https://vimeo.com/allsaintsftl
URL:https://allsaintsfl.org/events/compline-prayers-at-the-end-of-day-live-streamed-each-night-except-thursday-8-2/2025-09-21/
CATEGORIES:Worship
END:VEVENT
BEGIN:VEVENT
DTSTART;TZID=America/New_York:20250922T203000
DTEND;TZID=America/New_York:20250922T210000
DTSTAMP:20260423T031214
CREATED:20240213T192859Z
LAST-MODIFIED:20240213T193313Z
UID:10006586-1758573000-1758574800@allsaintsfl.org
SUMMARY:Compline (Prayers at the end of day) – Live-streamed each night except Thursday
DESCRIPTION:Join us for evening prayer on FaceBook Live or on Vimeo.  Go to https://facebook.com/asecfl and scroll down until you see “LIVE” or join us on  All Saints’ Vimeo Page at https://vimeo.com/allsaintsftl
URL:https://allsaintsfl.org/events/compline-prayers-at-the-end-of-day-live-streamed-each-night-except-thursday-8-2/2025-09-22/
CATEGORIES:Worship
END:VEVENT
BEGIN:VEVENT
DTSTART;TZID=America/New_York:20250923T203000
DTEND;TZID=America/New_York:20250923T210000
DTSTAMP:20260423T031214
CREATED:20240213T192859Z
LAST-MODIFIED:20240213T193313Z
UID:10006587-1758659400-1758661200@allsaintsfl.org
SUMMARY:Compline (Prayers at the end of day) – Live-streamed each night except Thursday
DESCRIPTION:Join us for evening prayer on FaceBook Live or on Vimeo.  Go to https://facebook.com/asecfl and scroll down until you see “LIVE” or join us on  All Saints’ Vimeo Page at https://vimeo.com/allsaintsftl
URL:https://allsaintsfl.org/events/compline-prayers-at-the-end-of-day-live-streamed-each-night-except-thursday-8-2/2025-09-23/
CATEGORIES:Worship
END:VEVENT
BEGIN:VEVENT
DTSTART;TZID=America/New_York:20250924T120000
DTEND;TZID=America/New_York:20250924T130000
DTSTAMP:20260423T031214
CREATED:20231021T162524Z
LAST-MODIFIED:20240213T192227Z
UID:10002158-1758715200-1758718800@allsaintsfl.org
SUMMARY:Wednesday Healing Eucharist
DESCRIPTION:Join us each Wednesday at 12:05 p.m. for a special service of prayer for healing followed by the Holy Eucharist.  This service is held in St. Luke’s chapel on the river side of the church. \nYou may attend in person or via livestream on Vimeo and Facebook Live.  The links for the livestream are posted on the Home Page each week.
URL:https://allsaintsfl.org/events/wednesday-healing-eucharist-2/2025-09-24/
LOCATION:St. Luke’s Chapel
CATEGORIES:Events,Worship
END:VEVENT
BEGIN:VEVENT
DTSTART;TZID=America/New_York:20250924T203000
DTEND;TZID=America/New_York:20250924T210000
DTSTAMP:20260423T031214
CREATED:20240213T192859Z
LAST-MODIFIED:20240213T193313Z
UID:10006588-1758745800-1758747600@allsaintsfl.org
SUMMARY:Compline (Prayers at the end of day) – Live-streamed each night except Thursday
DESCRIPTION:Join us for evening prayer on FaceBook Live or on Vimeo.  Go to https://facebook.com/asecfl and scroll down until you see “LIVE” or join us on  All Saints’ Vimeo Page at https://vimeo.com/allsaintsftl
URL:https://allsaintsfl.org/events/compline-prayers-at-the-end-of-day-live-streamed-each-night-except-thursday-8-2/2025-09-24/
CATEGORIES:Worship
END:VEVENT
BEGIN:VEVENT
DTSTART;TZID=America/New_York:20250926T203000
DTEND;TZID=America/New_York:20250926T210000
DTSTAMP:20260423T031214
CREATED:20240213T192859Z
LAST-MODIFIED:20240213T193313Z
UID:10006589-1758918600-1758920400@allsaintsfl.org
SUMMARY:Compline (Prayers at the end of day) – Live-streamed each night except Thursday
DESCRIPTION:Join us for evening prayer on FaceBook Live or on Vimeo.  Go to https://facebook.com/asecfl and scroll down until you see “LIVE” or join us on  All Saints’ Vimeo Page at https://vimeo.com/allsaintsftl
URL:https://allsaintsfl.org/events/compline-prayers-at-the-end-of-day-live-streamed-each-night-except-thursday-8-2/2025-09-26/
CATEGORIES:Worship
END:VEVENT
BEGIN:VEVENT
DTSTART;TZID=America/New_York:20250927T203000
DTEND;TZID=America/New_York:20250927T210000
DTSTAMP:20260423T031214
CREATED:20240213T192859Z
LAST-MODIFIED:20240213T193313Z
UID:10006590-1759005000-1759006800@allsaintsfl.org
SUMMARY:Compline (Prayers at the end of day) – Live-streamed each night except Thursday
DESCRIPTION:Join us for evening prayer on FaceBook Live or on Vimeo.  Go to https://facebook.com/asecfl and scroll down until you see “LIVE” or join us on  All Saints’ Vimeo Page at https://vimeo.com/allsaintsftl
URL:https://allsaintsfl.org/events/compline-prayers-at-the-end-of-day-live-streamed-each-night-except-thursday-8-2/2025-09-27/
CATEGORIES:Worship
END:VEVENT
BEGIN:VEVENT
DTSTART;TZID=America/New_York:20250928T203000
DTEND;TZID=America/New_York:20250928T210000
DTSTAMP:20260423T031214
CREATED:20240213T192859Z
LAST-MODIFIED:20240213T193313Z
UID:10005953-1759091400-1759093200@allsaintsfl.org
SUMMARY:Compline (Prayers at the end of day) – Live-streamed each night except Thursday
DESCRIPTION:Join us for evening prayer on FaceBook Live or on Vimeo.  Go to https://facebook.com/asecfl and scroll down until you see “LIVE” or join us on  All Saints’ Vimeo Page at https://vimeo.com/allsaintsftl
URL:https://allsaintsfl.org/events/compline-prayers-at-the-end-of-day-live-streamed-each-night-except-thursday-8-2/2025-09-28/
CATEGORIES:Worship
END:VEVENT
BEGIN:VEVENT
DTSTART;TZID=America/New_York:20250929T203000
DTEND;TZID=America/New_York:20250929T210000
DTSTAMP:20260423T031214
CREATED:20240213T192859Z
LAST-MODIFIED:20240213T193313Z
UID:10006591-1759177800-1759179600@allsaintsfl.org
SUMMARY:Compline (Prayers at the end of day) – Live-streamed each night except Thursday
DESCRIPTION:Join us for evening prayer on FaceBook Live or on Vimeo.  Go to https://facebook.com/asecfl and scroll down until you see “LIVE” or join us on  All Saints’ Vimeo Page at https://vimeo.com/allsaintsftl
URL:https://allsaintsfl.org/events/compline-prayers-at-the-end-of-day-live-streamed-each-night-except-thursday-8-2/2025-09-29/
CATEGORIES:Worship
END:VEVENT
BEGIN:VEVENT
DTSTART;TZID=America/New_York:20250930T203000
DTEND;TZID=America/New_York:20250930T210000
DTSTAMP:20260423T031214
CREATED:20240213T192859Z
LAST-MODIFIED:20240213T193313Z
UID:10006592-1759264200-1759266000@allsaintsfl.org
SUMMARY:Compline (Prayers at the end of day) – Live-streamed each night except Thursday
DESCRIPTION:Join us for evening prayer on FaceBook Live or on Vimeo.  Go to https://facebook.com/asecfl and scroll down until you see “LIVE” or join us on  All Saints’ Vimeo Page at https://vimeo.com/allsaintsftl
URL:https://allsaintsfl.org/events/compline-prayers-at-the-end-of-day-live-streamed-each-night-except-thursday-8-2/2025-09-30/
CATEGORIES:Worship
END:VEVENT
END:VCALENDAR