BEGIN:VCALENDAR
VERSION:2.0
PRODID:-//All Saints Episcopal Church - ECPv6.15.20//NONSGML v1.0//EN
CALSCALE:GREGORIAN
METHOD:PUBLISH
X-WR-CALNAME:All Saints Episcopal Church
X-ORIGINAL-URL:https://allsaintsfl.org
X-WR-CALDESC:Events for All Saints Episcopal Church
REFRESH-INTERVAL;VALUE=DURATION:PT1H
X-Robots-Tag:noindex
X-PUBLISHED-TTL:PT1H
BEGIN:VTIMEZONE
TZID:America/New_York
BEGIN:DAYLIGHT
TZOFFSETFROM:-0500
TZOFFSETTO:-0400
TZNAME:EDT
DTSTART:20260308T070000
END:DAYLIGHT
BEGIN:STANDARD
TZOFFSETFROM:-0400
TZOFFSETTO:-0500
TZNAME:EST
DTSTART:20261101T060000
END:STANDARD
BEGIN:DAYLIGHT
TZOFFSETFROM:-0500
TZOFFSETTO:-0400
TZNAME:EDT
DTSTART:20270314T070000
END:DAYLIGHT
BEGIN:STANDARD
TZOFFSETFROM:-0400
TZOFFSETTO:-0500
TZNAME:EST
DTSTART:20271107T060000
END:STANDARD
BEGIN:DAYLIGHT
TZOFFSETFROM:-0500
TZOFFSETTO:-0400
TZNAME:EDT
DTSTART:20280312T070000
END:DAYLIGHT
BEGIN:STANDARD
TZOFFSETFROM:-0400
TZOFFSETTO:-0500
TZNAME:EST
DTSTART:20281105T060000
END:STANDARD
END:VTIMEZONE
BEGIN:VEVENT
DTSTART;TZID=America/New_York:20270501T203000
DTEND;TZID=America/New_York:20270501T210000
DTSTAMP:20260423T062623
CREATED:20240213T192859Z
LAST-MODIFIED:20240213T193313Z
UID:10007005-1809203400-1809205200@allsaintsfl.org
SUMMARY:Compline (Prayers at the end of day) – Live-streamed each night except Thursday
DESCRIPTION:Join us for evening prayer on FaceBook Live or on Vimeo.  Go to https://facebook.com/asecfl and scroll down until you see “LIVE” or join us on  All Saints’ Vimeo Page at https://vimeo.com/allsaintsftl
URL:https://allsaintsfl.org/events/compline-prayers-at-the-end-of-day-live-streamed-each-night-except-thursday-8-2/2027-05-01/
CATEGORIES:Worship
END:VEVENT
BEGIN:VEVENT
DTSTART;TZID=America/New_York:20270502T203000
DTEND;TZID=America/New_York:20270502T210000
DTSTAMP:20260423T062623
CREATED:20240213T192859Z
LAST-MODIFIED:20240213T193313Z
UID:10006036-1809289800-1809291600@allsaintsfl.org
SUMMARY:Compline (Prayers at the end of day) – Live-streamed each night except Thursday
DESCRIPTION:Join us for evening prayer on FaceBook Live or on Vimeo.  Go to https://facebook.com/asecfl and scroll down until you see “LIVE” or join us on  All Saints’ Vimeo Page at https://vimeo.com/allsaintsftl
URL:https://allsaintsfl.org/events/compline-prayers-at-the-end-of-day-live-streamed-each-night-except-thursday-8-2/2027-05-02/
CATEGORIES:Worship
END:VEVENT
BEGIN:VEVENT
DTSTART;TZID=America/New_York:20270503T203000
DTEND;TZID=America/New_York:20270503T210000
DTSTAMP:20260423T062624
CREATED:20240213T192859Z
LAST-MODIFIED:20240213T193313Z
UID:10007006-1809376200-1809378000@allsaintsfl.org
SUMMARY:Compline (Prayers at the end of day) – Live-streamed each night except Thursday
DESCRIPTION:Join us for evening prayer on FaceBook Live or on Vimeo.  Go to https://facebook.com/asecfl and scroll down until you see “LIVE” or join us on  All Saints’ Vimeo Page at https://vimeo.com/allsaintsftl
URL:https://allsaintsfl.org/events/compline-prayers-at-the-end-of-day-live-streamed-each-night-except-thursday-8-2/2027-05-03/
CATEGORIES:Worship
END:VEVENT
BEGIN:VEVENT
DTSTART;TZID=America/New_York:20270504T203000
DTEND;TZID=America/New_York:20270504T210000
DTSTAMP:20260423T062624
CREATED:20240213T192859Z
LAST-MODIFIED:20240213T193313Z
UID:10007007-1809462600-1809464400@allsaintsfl.org
SUMMARY:Compline (Prayers at the end of day) – Live-streamed each night except Thursday
DESCRIPTION:Join us for evening prayer on FaceBook Live or on Vimeo.  Go to https://facebook.com/asecfl and scroll down until you see “LIVE” or join us on  All Saints’ Vimeo Page at https://vimeo.com/allsaintsftl
URL:https://allsaintsfl.org/events/compline-prayers-at-the-end-of-day-live-streamed-each-night-except-thursday-8-2/2027-05-04/
CATEGORIES:Worship
END:VEVENT
BEGIN:VEVENT
DTSTART;TZID=America/New_York:20270505T120000
DTEND;TZID=America/New_York:20270505T130000
DTSTAMP:20260423T062624
CREATED:20231021T162524Z
LAST-MODIFIED:20240213T192227Z
UID:10002242-1809518400-1809522000@allsaintsfl.org
SUMMARY:Wednesday Healing Eucharist
DESCRIPTION:Join us each Wednesday at 12:05 p.m. for a special service of prayer for healing followed by the Holy Eucharist.  This service is held in St. Luke’s chapel on the river side of the church. \nYou may attend in person or via livestream on Vimeo and Facebook Live.  The links for the livestream are posted on the Home Page each week.
URL:https://allsaintsfl.org/events/wednesday-healing-eucharist-2/2027-05-05/
LOCATION:St. Luke’s Chapel
CATEGORIES:Events,Worship
END:VEVENT
BEGIN:VEVENT
DTSTART;TZID=America/New_York:20270505T203000
DTEND;TZID=America/New_York:20270505T210000
DTSTAMP:20260423T062624
CREATED:20240213T192859Z
LAST-MODIFIED:20240213T193313Z
UID:10007008-1809549000-1809550800@allsaintsfl.org
SUMMARY:Compline (Prayers at the end of day) – Live-streamed each night except Thursday
DESCRIPTION:Join us for evening prayer on FaceBook Live or on Vimeo.  Go to https://facebook.com/asecfl and scroll down until you see “LIVE” or join us on  All Saints’ Vimeo Page at https://vimeo.com/allsaintsftl
URL:https://allsaintsfl.org/events/compline-prayers-at-the-end-of-day-live-streamed-each-night-except-thursday-8-2/2027-05-05/
CATEGORIES:Worship
END:VEVENT
BEGIN:VEVENT
DTSTART;TZID=America/New_York:20270507T203000
DTEND;TZID=America/New_York:20270507T210000
DTSTAMP:20260423T062624
CREATED:20240213T192859Z
LAST-MODIFIED:20240213T193313Z
UID:10007009-1809721800-1809723600@allsaintsfl.org
SUMMARY:Compline (Prayers at the end of day) – Live-streamed each night except Thursday
DESCRIPTION:Join us for evening prayer on FaceBook Live or on Vimeo.  Go to https://facebook.com/asecfl and scroll down until you see “LIVE” or join us on  All Saints’ Vimeo Page at https://vimeo.com/allsaintsftl
URL:https://allsaintsfl.org/events/compline-prayers-at-the-end-of-day-live-streamed-each-night-except-thursday-8-2/2027-05-07/
CATEGORIES:Worship
END:VEVENT
BEGIN:VEVENT
DTSTART;TZID=America/New_York:20270508T203000
DTEND;TZID=America/New_York:20270508T210000
DTSTAMP:20260423T062624
CREATED:20240213T192859Z
LAST-MODIFIED:20240213T193313Z
UID:10007010-1809808200-1809810000@allsaintsfl.org
SUMMARY:Compline (Prayers at the end of day) – Live-streamed each night except Thursday
DESCRIPTION:Join us for evening prayer on FaceBook Live or on Vimeo.  Go to https://facebook.com/asecfl and scroll down until you see “LIVE” or join us on  All Saints’ Vimeo Page at https://vimeo.com/allsaintsftl
URL:https://allsaintsfl.org/events/compline-prayers-at-the-end-of-day-live-streamed-each-night-except-thursday-8-2/2027-05-08/
CATEGORIES:Worship
END:VEVENT
BEGIN:VEVENT
DTSTART;TZID=America/New_York:20270509T203000
DTEND;TZID=America/New_York:20270509T210000
DTSTAMP:20260423T062624
CREATED:20240213T192859Z
LAST-MODIFIED:20240213T193313Z
UID:10006037-1809894600-1809896400@allsaintsfl.org
SUMMARY:Compline (Prayers at the end of day) – Live-streamed each night except Thursday
DESCRIPTION:Join us for evening prayer on FaceBook Live or on Vimeo.  Go to https://facebook.com/asecfl and scroll down until you see “LIVE” or join us on  All Saints’ Vimeo Page at https://vimeo.com/allsaintsftl
URL:https://allsaintsfl.org/events/compline-prayers-at-the-end-of-day-live-streamed-each-night-except-thursday-8-2/2027-05-09/
CATEGORIES:Worship
END:VEVENT
BEGIN:VEVENT
DTSTART;TZID=America/New_York:20270510T203000
DTEND;TZID=America/New_York:20270510T210000
DTSTAMP:20260423T062624
CREATED:20240213T192859Z
LAST-MODIFIED:20240213T193313Z
UID:10007011-1809981000-1809982800@allsaintsfl.org
SUMMARY:Compline (Prayers at the end of day) – Live-streamed each night except Thursday
DESCRIPTION:Join us for evening prayer on FaceBook Live or on Vimeo.  Go to https://facebook.com/asecfl and scroll down until you see “LIVE” or join us on  All Saints’ Vimeo Page at https://vimeo.com/allsaintsftl
URL:https://allsaintsfl.org/events/compline-prayers-at-the-end-of-day-live-streamed-each-night-except-thursday-8-2/2027-05-10/
CATEGORIES:Worship
END:VEVENT
BEGIN:VEVENT
DTSTART;TZID=America/New_York:20270511T203000
DTEND;TZID=America/New_York:20270511T210000
DTSTAMP:20260423T062624
CREATED:20240213T192859Z
LAST-MODIFIED:20240213T193313Z
UID:10007012-1810067400-1810069200@allsaintsfl.org
SUMMARY:Compline (Prayers at the end of day) – Live-streamed each night except Thursday
DESCRIPTION:Join us for evening prayer on FaceBook Live or on Vimeo.  Go to https://facebook.com/asecfl and scroll down until you see “LIVE” or join us on  All Saints’ Vimeo Page at https://vimeo.com/allsaintsftl
URL:https://allsaintsfl.org/events/compline-prayers-at-the-end-of-day-live-streamed-each-night-except-thursday-8-2/2027-05-11/
CATEGORIES:Worship
END:VEVENT
BEGIN:VEVENT
DTSTART;TZID=America/New_York:20270512T120000
DTEND;TZID=America/New_York:20270512T130000
DTSTAMP:20260423T062624
CREATED:20231021T162524Z
LAST-MODIFIED:20240213T192227Z
UID:10002243-1810123200-1810126800@allsaintsfl.org
SUMMARY:Wednesday Healing Eucharist
DESCRIPTION:Join us each Wednesday at 12:05 p.m. for a special service of prayer for healing followed by the Holy Eucharist.  This service is held in St. Luke’s chapel on the river side of the church. \nYou may attend in person or via livestream on Vimeo and Facebook Live.  The links for the livestream are posted on the Home Page each week.
URL:https://allsaintsfl.org/events/wednesday-healing-eucharist-2/2027-05-12/
LOCATION:St. Luke’s Chapel
CATEGORIES:Events,Worship
END:VEVENT
BEGIN:VEVENT
DTSTART;TZID=America/New_York:20270512T203000
DTEND;TZID=America/New_York:20270512T210000
DTSTAMP:20260423T062624
CREATED:20240213T192859Z
LAST-MODIFIED:20240213T193313Z
UID:10007013-1810153800-1810155600@allsaintsfl.org
SUMMARY:Compline (Prayers at the end of day) – Live-streamed each night except Thursday
DESCRIPTION:Join us for evening prayer on FaceBook Live or on Vimeo.  Go to https://facebook.com/asecfl and scroll down until you see “LIVE” or join us on  All Saints’ Vimeo Page at https://vimeo.com/allsaintsftl
URL:https://allsaintsfl.org/events/compline-prayers-at-the-end-of-day-live-streamed-each-night-except-thursday-8-2/2027-05-12/
CATEGORIES:Worship
END:VEVENT
BEGIN:VEVENT
DTSTART;TZID=America/New_York:20270514T203000
DTEND;TZID=America/New_York:20270514T210000
DTSTAMP:20260423T062624
CREATED:20240213T192859Z
LAST-MODIFIED:20240213T193313Z
UID:10007014-1810326600-1810328400@allsaintsfl.org
SUMMARY:Compline (Prayers at the end of day) – Live-streamed each night except Thursday
DESCRIPTION:Join us for evening prayer on FaceBook Live or on Vimeo.  Go to https://facebook.com/asecfl and scroll down until you see “LIVE” or join us on  All Saints’ Vimeo Page at https://vimeo.com/allsaintsftl
URL:https://allsaintsfl.org/events/compline-prayers-at-the-end-of-day-live-streamed-each-night-except-thursday-8-2/2027-05-14/
CATEGORIES:Worship
END:VEVENT
BEGIN:VEVENT
DTSTART;TZID=America/New_York:20270515T203000
DTEND;TZID=America/New_York:20270515T210000
DTSTAMP:20260423T062624
CREATED:20240213T192859Z
LAST-MODIFIED:20240213T193313Z
UID:10007015-1810413000-1810414800@allsaintsfl.org
SUMMARY:Compline (Prayers at the end of day) – Live-streamed each night except Thursday
DESCRIPTION:Join us for evening prayer on FaceBook Live or on Vimeo.  Go to https://facebook.com/asecfl and scroll down until you see “LIVE” or join us on  All Saints’ Vimeo Page at https://vimeo.com/allsaintsftl
URL:https://allsaintsfl.org/events/compline-prayers-at-the-end-of-day-live-streamed-each-night-except-thursday-8-2/2027-05-15/
CATEGORIES:Worship
END:VEVENT
BEGIN:VEVENT
DTSTART;TZID=America/New_York:20270516T203000
DTEND;TZID=America/New_York:20270516T210000
DTSTAMP:20260423T062624
CREATED:20240213T192859Z
LAST-MODIFIED:20240213T193313Z
UID:10006038-1810499400-1810501200@allsaintsfl.org
SUMMARY:Compline (Prayers at the end of day) – Live-streamed each night except Thursday
DESCRIPTION:Join us for evening prayer on FaceBook Live or on Vimeo.  Go to https://facebook.com/asecfl and scroll down until you see “LIVE” or join us on  All Saints’ Vimeo Page at https://vimeo.com/allsaintsftl
URL:https://allsaintsfl.org/events/compline-prayers-at-the-end-of-day-live-streamed-each-night-except-thursday-8-2/2027-05-16/
CATEGORIES:Worship
END:VEVENT
BEGIN:VEVENT
DTSTART;TZID=America/New_York:20270517T203000
DTEND;TZID=America/New_York:20270517T210000
DTSTAMP:20260423T062624
CREATED:20240213T192859Z
LAST-MODIFIED:20240213T193313Z
UID:10007016-1810585800-1810587600@allsaintsfl.org
SUMMARY:Compline (Prayers at the end of day) – Live-streamed each night except Thursday
DESCRIPTION:Join us for evening prayer on FaceBook Live or on Vimeo.  Go to https://facebook.com/asecfl and scroll down until you see “LIVE” or join us on  All Saints’ Vimeo Page at https://vimeo.com/allsaintsftl
URL:https://allsaintsfl.org/events/compline-prayers-at-the-end-of-day-live-streamed-each-night-except-thursday-8-2/2027-05-17/
CATEGORIES:Worship
END:VEVENT
BEGIN:VEVENT
DTSTART;TZID=America/New_York:20270518T203000
DTEND;TZID=America/New_York:20270518T210000
DTSTAMP:20260423T062624
CREATED:20240213T192859Z
LAST-MODIFIED:20240213T193313Z
UID:10007017-1810672200-1810674000@allsaintsfl.org
SUMMARY:Compline (Prayers at the end of day) – Live-streamed each night except Thursday
DESCRIPTION:Join us for evening prayer on FaceBook Live or on Vimeo.  Go to https://facebook.com/asecfl and scroll down until you see “LIVE” or join us on  All Saints’ Vimeo Page at https://vimeo.com/allsaintsftl
URL:https://allsaintsfl.org/events/compline-prayers-at-the-end-of-day-live-streamed-each-night-except-thursday-8-2/2027-05-18/
CATEGORIES:Worship
END:VEVENT
BEGIN:VEVENT
DTSTART;TZID=America/New_York:20270519T120000
DTEND;TZID=America/New_York:20270519T130000
DTSTAMP:20260423T062624
CREATED:20231021T162524Z
LAST-MODIFIED:20240213T192227Z
UID:10002244-1810728000-1810731600@allsaintsfl.org
SUMMARY:Wednesday Healing Eucharist
DESCRIPTION:Join us each Wednesday at 12:05 p.m. for a special service of prayer for healing followed by the Holy Eucharist.  This service is held in St. Luke’s chapel on the river side of the church. \nYou may attend in person or via livestream on Vimeo and Facebook Live.  The links for the livestream are posted on the Home Page each week.
URL:https://allsaintsfl.org/events/wednesday-healing-eucharist-2/2027-05-19/
LOCATION:St. Luke’s Chapel
CATEGORIES:Events,Worship
END:VEVENT
BEGIN:VEVENT
DTSTART;TZID=America/New_York:20270519T203000
DTEND;TZID=America/New_York:20270519T210000
DTSTAMP:20260423T062624
CREATED:20240213T192859Z
LAST-MODIFIED:20240213T193313Z
UID:10007018-1810758600-1810760400@allsaintsfl.org
SUMMARY:Compline (Prayers at the end of day) – Live-streamed each night except Thursday
DESCRIPTION:Join us for evening prayer on FaceBook Live or on Vimeo.  Go to https://facebook.com/asecfl and scroll down until you see “LIVE” or join us on  All Saints’ Vimeo Page at https://vimeo.com/allsaintsftl
URL:https://allsaintsfl.org/events/compline-prayers-at-the-end-of-day-live-streamed-each-night-except-thursday-8-2/2027-05-19/
CATEGORIES:Worship
END:VEVENT
BEGIN:VEVENT
DTSTART;TZID=America/New_York:20270521T203000
DTEND;TZID=America/New_York:20270521T210000
DTSTAMP:20260423T062624
CREATED:20240213T192859Z
LAST-MODIFIED:20240213T193313Z
UID:10007019-1810931400-1810933200@allsaintsfl.org
SUMMARY:Compline (Prayers at the end of day) – Live-streamed each night except Thursday
DESCRIPTION:Join us for evening prayer on FaceBook Live or on Vimeo.  Go to https://facebook.com/asecfl and scroll down until you see “LIVE” or join us on  All Saints’ Vimeo Page at https://vimeo.com/allsaintsftl
URL:https://allsaintsfl.org/events/compline-prayers-at-the-end-of-day-live-streamed-each-night-except-thursday-8-2/2027-05-21/
CATEGORIES:Worship
END:VEVENT
BEGIN:VEVENT
DTSTART;TZID=America/New_York:20270522T203000
DTEND;TZID=America/New_York:20270522T210000
DTSTAMP:20260423T062624
CREATED:20240213T192859Z
LAST-MODIFIED:20240213T193313Z
UID:10007020-1811017800-1811019600@allsaintsfl.org
SUMMARY:Compline (Prayers at the end of day) – Live-streamed each night except Thursday
DESCRIPTION:Join us for evening prayer on FaceBook Live or on Vimeo.  Go to https://facebook.com/asecfl and scroll down until you see “LIVE” or join us on  All Saints’ Vimeo Page at https://vimeo.com/allsaintsftl
URL:https://allsaintsfl.org/events/compline-prayers-at-the-end-of-day-live-streamed-each-night-except-thursday-8-2/2027-05-22/
CATEGORIES:Worship
END:VEVENT
BEGIN:VEVENT
DTSTART;TZID=America/New_York:20270523T203000
DTEND;TZID=America/New_York:20270523T210000
DTSTAMP:20260423T062624
CREATED:20240213T192859Z
LAST-MODIFIED:20240213T193313Z
UID:10006039-1811104200-1811106000@allsaintsfl.org
SUMMARY:Compline (Prayers at the end of day) – Live-streamed each night except Thursday
DESCRIPTION:Join us for evening prayer on FaceBook Live or on Vimeo.  Go to https://facebook.com/asecfl and scroll down until you see “LIVE” or join us on  All Saints’ Vimeo Page at https://vimeo.com/allsaintsftl
URL:https://allsaintsfl.org/events/compline-prayers-at-the-end-of-day-live-streamed-each-night-except-thursday-8-2/2027-05-23/
CATEGORIES:Worship
END:VEVENT
BEGIN:VEVENT
DTSTART;TZID=America/New_York:20270524T203000
DTEND;TZID=America/New_York:20270524T210000
DTSTAMP:20260423T062624
CREATED:20240213T192859Z
LAST-MODIFIED:20240213T193313Z
UID:10007021-1811190600-1811192400@allsaintsfl.org
SUMMARY:Compline (Prayers at the end of day) – Live-streamed each night except Thursday
DESCRIPTION:Join us for evening prayer on FaceBook Live or on Vimeo.  Go to https://facebook.com/asecfl and scroll down until you see “LIVE” or join us on  All Saints’ Vimeo Page at https://vimeo.com/allsaintsftl
URL:https://allsaintsfl.org/events/compline-prayers-at-the-end-of-day-live-streamed-each-night-except-thursday-8-2/2027-05-24/
CATEGORIES:Worship
END:VEVENT
BEGIN:VEVENT
DTSTART;TZID=America/New_York:20270525T203000
DTEND;TZID=America/New_York:20270525T210000
DTSTAMP:20260423T062624
CREATED:20240213T192859Z
LAST-MODIFIED:20240213T193313Z
UID:10007022-1811277000-1811278800@allsaintsfl.org
SUMMARY:Compline (Prayers at the end of day) – Live-streamed each night except Thursday
DESCRIPTION:Join us for evening prayer on FaceBook Live or on Vimeo.  Go to https://facebook.com/asecfl and scroll down until you see “LIVE” or join us on  All Saints’ Vimeo Page at https://vimeo.com/allsaintsftl
URL:https://allsaintsfl.org/events/compline-prayers-at-the-end-of-day-live-streamed-each-night-except-thursday-8-2/2027-05-25/
CATEGORIES:Worship
END:VEVENT
BEGIN:VEVENT
DTSTART;TZID=America/New_York:20270526T120000
DTEND;TZID=America/New_York:20270526T130000
DTSTAMP:20260423T062624
CREATED:20231021T162524Z
LAST-MODIFIED:20240213T192227Z
UID:10002245-1811332800-1811336400@allsaintsfl.org
SUMMARY:Wednesday Healing Eucharist
DESCRIPTION:Join us each Wednesday at 12:05 p.m. for a special service of prayer for healing followed by the Holy Eucharist.  This service is held in St. Luke’s chapel on the river side of the church. \nYou may attend in person or via livestream on Vimeo and Facebook Live.  The links for the livestream are posted on the Home Page each week.
URL:https://allsaintsfl.org/events/wednesday-healing-eucharist-2/2027-05-26/
LOCATION:St. Luke’s Chapel
CATEGORIES:Events,Worship
END:VEVENT
BEGIN:VEVENT
DTSTART;TZID=America/New_York:20270526T203000
DTEND;TZID=America/New_York:20270526T210000
DTSTAMP:20260423T062624
CREATED:20240213T192859Z
LAST-MODIFIED:20240213T193313Z
UID:10007023-1811363400-1811365200@allsaintsfl.org
SUMMARY:Compline (Prayers at the end of day) – Live-streamed each night except Thursday
DESCRIPTION:Join us for evening prayer on FaceBook Live or on Vimeo.  Go to https://facebook.com/asecfl and scroll down until you see “LIVE” or join us on  All Saints’ Vimeo Page at https://vimeo.com/allsaintsftl
URL:https://allsaintsfl.org/events/compline-prayers-at-the-end-of-day-live-streamed-each-night-except-thursday-8-2/2027-05-26/
CATEGORIES:Worship
END:VEVENT
BEGIN:VEVENT
DTSTART;TZID=America/New_York:20270528T203000
DTEND;TZID=America/New_York:20270528T210000
DTSTAMP:20260423T062624
CREATED:20240213T192859Z
LAST-MODIFIED:20240213T193313Z
UID:10007024-1811536200-1811538000@allsaintsfl.org
SUMMARY:Compline (Prayers at the end of day) – Live-streamed each night except Thursday
DESCRIPTION:Join us for evening prayer on FaceBook Live or on Vimeo.  Go to https://facebook.com/asecfl and scroll down until you see “LIVE” or join us on  All Saints’ Vimeo Page at https://vimeo.com/allsaintsftl
URL:https://allsaintsfl.org/events/compline-prayers-at-the-end-of-day-live-streamed-each-night-except-thursday-8-2/2027-05-28/
CATEGORIES:Worship
END:VEVENT
BEGIN:VEVENT
DTSTART;TZID=America/New_York:20270529T203000
DTEND;TZID=America/New_York:20270529T210000
DTSTAMP:20260423T062624
CREATED:20240213T192859Z
LAST-MODIFIED:20240213T193313Z
UID:10007025-1811622600-1811624400@allsaintsfl.org
SUMMARY:Compline (Prayers at the end of day) – Live-streamed each night except Thursday
DESCRIPTION:Join us for evening prayer on FaceBook Live or on Vimeo.  Go to https://facebook.com/asecfl and scroll down until you see “LIVE” or join us on  All Saints’ Vimeo Page at https://vimeo.com/allsaintsftl
URL:https://allsaintsfl.org/events/compline-prayers-at-the-end-of-day-live-streamed-each-night-except-thursday-8-2/2027-05-29/
CATEGORIES:Worship
END:VEVENT
BEGIN:VEVENT
DTSTART;TZID=America/New_York:20270530T203000
DTEND;TZID=America/New_York:20270530T210000
DTSTAMP:20260423T062624
CREATED:20240213T192859Z
LAST-MODIFIED:20240213T193313Z
UID:10006040-1811709000-1811710800@allsaintsfl.org
SUMMARY:Compline (Prayers at the end of day) – Live-streamed each night except Thursday
DESCRIPTION:Join us for evening prayer on FaceBook Live or on Vimeo.  Go to https://facebook.com/asecfl and scroll down until you see “LIVE” or join us on  All Saints’ Vimeo Page at https://vimeo.com/allsaintsftl
URL:https://allsaintsfl.org/events/compline-prayers-at-the-end-of-day-live-streamed-each-night-except-thursday-8-2/2027-05-30/
CATEGORIES:Worship
END:VEVENT
END:VCALENDAR