BEGIN:VCALENDAR
VERSION:2.0
PRODID:-//All Saints Episcopal Church - ECPv6.15.20//NONSGML v1.0//EN
CALSCALE:GREGORIAN
METHOD:PUBLISH
X-WR-CALNAME:All Saints Episcopal Church
X-ORIGINAL-URL:https://allsaintsfl.org
X-WR-CALDESC:Events for All Saints Episcopal Church
REFRESH-INTERVAL;VALUE=DURATION:PT1H
X-Robots-Tag:noindex
X-PUBLISHED-TTL:PT1H
BEGIN:VTIMEZONE
TZID:America/New_York
BEGIN:DAYLIGHT
TZOFFSETFROM:-0500
TZOFFSETTO:-0400
TZNAME:EDT
DTSTART:20260308T070000
END:DAYLIGHT
BEGIN:STANDARD
TZOFFSETFROM:-0400
TZOFFSETTO:-0500
TZNAME:EST
DTSTART:20261101T060000
END:STANDARD
BEGIN:DAYLIGHT
TZOFFSETFROM:-0500
TZOFFSETTO:-0400
TZNAME:EDT
DTSTART:20270314T070000
END:DAYLIGHT
BEGIN:STANDARD
TZOFFSETFROM:-0400
TZOFFSETTO:-0500
TZNAME:EST
DTSTART:20271107T060000
END:STANDARD
BEGIN:DAYLIGHT
TZOFFSETFROM:-0500
TZOFFSETTO:-0400
TZNAME:EDT
DTSTART:20280312T070000
END:DAYLIGHT
BEGIN:STANDARD
TZOFFSETFROM:-0400
TZOFFSETTO:-0500
TZNAME:EST
DTSTART:20281105T060000
END:STANDARD
END:VTIMEZONE
BEGIN:VEVENT
DTSTART;TZID=America/New_York:20270702T203000
DTEND;TZID=America/New_York:20270702T210000
DTSTAMP:20260423T093840
CREATED:20240213T192859Z
LAST-MODIFIED:20240213T193313Z
UID:10007049-1814560200-1814562000@allsaintsfl.org
SUMMARY:Compline (Prayers at the end of day) – Live-streamed each night except Thursday
DESCRIPTION:Join us for evening prayer on FaceBook Live or on Vimeo.  Go to https://facebook.com/asecfl and scroll down until you see “LIVE” or join us on  All Saints’ Vimeo Page at https://vimeo.com/allsaintsftl
URL:https://allsaintsfl.org/events/compline-prayers-at-the-end-of-day-live-streamed-each-night-except-thursday-8-2/2027-07-02/
CATEGORIES:Worship
END:VEVENT
BEGIN:VEVENT
DTSTART;TZID=America/New_York:20270703T203000
DTEND;TZID=America/New_York:20270703T210000
DTSTAMP:20260423T093840
CREATED:20240213T192859Z
LAST-MODIFIED:20240213T193313Z
UID:10007050-1814646600-1814648400@allsaintsfl.org
SUMMARY:Compline (Prayers at the end of day) – Live-streamed each night except Thursday
DESCRIPTION:Join us for evening prayer on FaceBook Live or on Vimeo.  Go to https://facebook.com/asecfl and scroll down until you see “LIVE” or join us on  All Saints’ Vimeo Page at https://vimeo.com/allsaintsftl
URL:https://allsaintsfl.org/events/compline-prayers-at-the-end-of-day-live-streamed-each-night-except-thursday-8-2/2027-07-03/
CATEGORIES:Worship
END:VEVENT
BEGIN:VEVENT
DTSTART;TZID=America/New_York:20270704T203000
DTEND;TZID=America/New_York:20270704T210000
DTSTAMP:20260423T093840
CREATED:20240213T192859Z
LAST-MODIFIED:20240213T193313Z
UID:10006045-1814733000-1814734800@allsaintsfl.org
SUMMARY:Compline (Prayers at the end of day) – Live-streamed each night except Thursday
DESCRIPTION:Join us for evening prayer on FaceBook Live or on Vimeo.  Go to https://facebook.com/asecfl and scroll down until you see “LIVE” or join us on  All Saints’ Vimeo Page at https://vimeo.com/allsaintsftl
URL:https://allsaintsfl.org/events/compline-prayers-at-the-end-of-day-live-streamed-each-night-except-thursday-8-2/2027-07-04/
CATEGORIES:Worship
END:VEVENT
BEGIN:VEVENT
DTSTART;TZID=America/New_York:20270705T203000
DTEND;TZID=America/New_York:20270705T210000
DTSTAMP:20260423T093840
CREATED:20240213T192859Z
LAST-MODIFIED:20240213T193313Z
UID:10007051-1814819400-1814821200@allsaintsfl.org
SUMMARY:Compline (Prayers at the end of day) – Live-streamed each night except Thursday
DESCRIPTION:Join us for evening prayer on FaceBook Live or on Vimeo.  Go to https://facebook.com/asecfl and scroll down until you see “LIVE” or join us on  All Saints’ Vimeo Page at https://vimeo.com/allsaintsftl
URL:https://allsaintsfl.org/events/compline-prayers-at-the-end-of-day-live-streamed-each-night-except-thursday-8-2/2027-07-05/
CATEGORIES:Worship
END:VEVENT
BEGIN:VEVENT
DTSTART;TZID=America/New_York:20270706T203000
DTEND;TZID=America/New_York:20270706T210000
DTSTAMP:20260423T093840
CREATED:20240213T192859Z
LAST-MODIFIED:20240213T193313Z
UID:10007052-1814905800-1814907600@allsaintsfl.org
SUMMARY:Compline (Prayers at the end of day) – Live-streamed each night except Thursday
DESCRIPTION:Join us for evening prayer on FaceBook Live or on Vimeo.  Go to https://facebook.com/asecfl and scroll down until you see “LIVE” or join us on  All Saints’ Vimeo Page at https://vimeo.com/allsaintsftl
URL:https://allsaintsfl.org/events/compline-prayers-at-the-end-of-day-live-streamed-each-night-except-thursday-8-2/2027-07-06/
CATEGORIES:Worship
END:VEVENT
BEGIN:VEVENT
DTSTART;TZID=America/New_York:20270707T120000
DTEND;TZID=America/New_York:20270707T130000
DTSTAMP:20260423T093840
CREATED:20231021T162524Z
LAST-MODIFIED:20240213T192227Z
UID:10002251-1814961600-1814965200@allsaintsfl.org
SUMMARY:Wednesday Healing Eucharist
DESCRIPTION:Join us each Wednesday at 12:05 p.m. for a special service of prayer for healing followed by the Holy Eucharist.  This service is held in St. Luke’s chapel on the river side of the church. \nYou may attend in person or via livestream on Vimeo and Facebook Live.  The links for the livestream are posted on the Home Page each week.
URL:https://allsaintsfl.org/events/wednesday-healing-eucharist-2/2027-07-07/
LOCATION:St. Luke’s Chapel
CATEGORIES:Events,Worship
END:VEVENT
BEGIN:VEVENT
DTSTART;TZID=America/New_York:20270707T203000
DTEND;TZID=America/New_York:20270707T210000
DTSTAMP:20260423T093840
CREATED:20240213T192859Z
LAST-MODIFIED:20240213T193313Z
UID:10007053-1814992200-1814994000@allsaintsfl.org
SUMMARY:Compline (Prayers at the end of day) – Live-streamed each night except Thursday
DESCRIPTION:Join us for evening prayer on FaceBook Live or on Vimeo.  Go to https://facebook.com/asecfl and scroll down until you see “LIVE” or join us on  All Saints’ Vimeo Page at https://vimeo.com/allsaintsftl
URL:https://allsaintsfl.org/events/compline-prayers-at-the-end-of-day-live-streamed-each-night-except-thursday-8-2/2027-07-07/
CATEGORIES:Worship
END:VEVENT
BEGIN:VEVENT
DTSTART;TZID=America/New_York:20270709T203000
DTEND;TZID=America/New_York:20270709T210000
DTSTAMP:20260423T093840
CREATED:20240213T192859Z
LAST-MODIFIED:20240213T193313Z
UID:10007054-1815165000-1815166800@allsaintsfl.org
SUMMARY:Compline (Prayers at the end of day) – Live-streamed each night except Thursday
DESCRIPTION:Join us for evening prayer on FaceBook Live or on Vimeo.  Go to https://facebook.com/asecfl and scroll down until you see “LIVE” or join us on  All Saints’ Vimeo Page at https://vimeo.com/allsaintsftl
URL:https://allsaintsfl.org/events/compline-prayers-at-the-end-of-day-live-streamed-each-night-except-thursday-8-2/2027-07-09/
CATEGORIES:Worship
END:VEVENT
BEGIN:VEVENT
DTSTART;TZID=America/New_York:20270710T203000
DTEND;TZID=America/New_York:20270710T210000
DTSTAMP:20260423T093840
CREATED:20240213T192859Z
LAST-MODIFIED:20240213T193313Z
UID:10007055-1815251400-1815253200@allsaintsfl.org
SUMMARY:Compline (Prayers at the end of day) – Live-streamed each night except Thursday
DESCRIPTION:Join us for evening prayer on FaceBook Live or on Vimeo.  Go to https://facebook.com/asecfl and scroll down until you see “LIVE” or join us on  All Saints’ Vimeo Page at https://vimeo.com/allsaintsftl
URL:https://allsaintsfl.org/events/compline-prayers-at-the-end-of-day-live-streamed-each-night-except-thursday-8-2/2027-07-10/
CATEGORIES:Worship
END:VEVENT
BEGIN:VEVENT
DTSTART;TZID=America/New_York:20270711T203000
DTEND;TZID=America/New_York:20270711T210000
DTSTAMP:20260423T093840
CREATED:20240213T192859Z
LAST-MODIFIED:20240213T193313Z
UID:10006046-1815337800-1815339600@allsaintsfl.org
SUMMARY:Compline (Prayers at the end of day) – Live-streamed each night except Thursday
DESCRIPTION:Join us for evening prayer on FaceBook Live or on Vimeo.  Go to https://facebook.com/asecfl and scroll down until you see “LIVE” or join us on  All Saints’ Vimeo Page at https://vimeo.com/allsaintsftl
URL:https://allsaintsfl.org/events/compline-prayers-at-the-end-of-day-live-streamed-each-night-except-thursday-8-2/2027-07-11/
CATEGORIES:Worship
END:VEVENT
BEGIN:VEVENT
DTSTART;TZID=America/New_York:20270712T203000
DTEND;TZID=America/New_York:20270712T210000
DTSTAMP:20260423T093840
CREATED:20240213T192859Z
LAST-MODIFIED:20240213T193313Z
UID:10007056-1815424200-1815426000@allsaintsfl.org
SUMMARY:Compline (Prayers at the end of day) – Live-streamed each night except Thursday
DESCRIPTION:Join us for evening prayer on FaceBook Live or on Vimeo.  Go to https://facebook.com/asecfl and scroll down until you see “LIVE” or join us on  All Saints’ Vimeo Page at https://vimeo.com/allsaintsftl
URL:https://allsaintsfl.org/events/compline-prayers-at-the-end-of-day-live-streamed-each-night-except-thursday-8-2/2027-07-12/
CATEGORIES:Worship
END:VEVENT
BEGIN:VEVENT
DTSTART;TZID=America/New_York:20270713T203000
DTEND;TZID=America/New_York:20270713T210000
DTSTAMP:20260423T093840
CREATED:20240213T192859Z
LAST-MODIFIED:20240213T193313Z
UID:10007057-1815510600-1815512400@allsaintsfl.org
SUMMARY:Compline (Prayers at the end of day) – Live-streamed each night except Thursday
DESCRIPTION:Join us for evening prayer on FaceBook Live or on Vimeo.  Go to https://facebook.com/asecfl and scroll down until you see “LIVE” or join us on  All Saints’ Vimeo Page at https://vimeo.com/allsaintsftl
URL:https://allsaintsfl.org/events/compline-prayers-at-the-end-of-day-live-streamed-each-night-except-thursday-8-2/2027-07-13/
CATEGORIES:Worship
END:VEVENT
BEGIN:VEVENT
DTSTART;TZID=America/New_York:20270714T120000
DTEND;TZID=America/New_York:20270714T130000
DTSTAMP:20260423T093840
CREATED:20231021T162524Z
LAST-MODIFIED:20240213T192227Z
UID:10002252-1815566400-1815570000@allsaintsfl.org
SUMMARY:Wednesday Healing Eucharist
DESCRIPTION:Join us each Wednesday at 12:05 p.m. for a special service of prayer for healing followed by the Holy Eucharist.  This service is held in St. Luke’s chapel on the river side of the church. \nYou may attend in person or via livestream on Vimeo and Facebook Live.  The links for the livestream are posted on the Home Page each week.
URL:https://allsaintsfl.org/events/wednesday-healing-eucharist-2/2027-07-14/
LOCATION:St. Luke’s Chapel
CATEGORIES:Events,Worship
END:VEVENT
BEGIN:VEVENT
DTSTART;TZID=America/New_York:20270714T203000
DTEND;TZID=America/New_York:20270714T210000
DTSTAMP:20260423T093840
CREATED:20240213T192859Z
LAST-MODIFIED:20240213T193313Z
UID:10007058-1815597000-1815598800@allsaintsfl.org
SUMMARY:Compline (Prayers at the end of day) – Live-streamed each night except Thursday
DESCRIPTION:Join us for evening prayer on FaceBook Live or on Vimeo.  Go to https://facebook.com/asecfl and scroll down until you see “LIVE” or join us on  All Saints’ Vimeo Page at https://vimeo.com/allsaintsftl
URL:https://allsaintsfl.org/events/compline-prayers-at-the-end-of-day-live-streamed-each-night-except-thursday-8-2/2027-07-14/
CATEGORIES:Worship
END:VEVENT
BEGIN:VEVENT
DTSTART;TZID=America/New_York:20270716T203000
DTEND;TZID=America/New_York:20270716T210000
DTSTAMP:20260423T093840
CREATED:20240213T192859Z
LAST-MODIFIED:20240213T193313Z
UID:10007059-1815769800-1815771600@allsaintsfl.org
SUMMARY:Compline (Prayers at the end of day) – Live-streamed each night except Thursday
DESCRIPTION:Join us for evening prayer on FaceBook Live or on Vimeo.  Go to https://facebook.com/asecfl and scroll down until you see “LIVE” or join us on  All Saints’ Vimeo Page at https://vimeo.com/allsaintsftl
URL:https://allsaintsfl.org/events/compline-prayers-at-the-end-of-day-live-streamed-each-night-except-thursday-8-2/2027-07-16/
CATEGORIES:Worship
END:VEVENT
BEGIN:VEVENT
DTSTART;TZID=America/New_York:20270717T203000
DTEND;TZID=America/New_York:20270717T210000
DTSTAMP:20260423T093840
CREATED:20240213T192859Z
LAST-MODIFIED:20240213T193313Z
UID:10007060-1815856200-1815858000@allsaintsfl.org
SUMMARY:Compline (Prayers at the end of day) – Live-streamed each night except Thursday
DESCRIPTION:Join us for evening prayer on FaceBook Live or on Vimeo.  Go to https://facebook.com/asecfl and scroll down until you see “LIVE” or join us on  All Saints’ Vimeo Page at https://vimeo.com/allsaintsftl
URL:https://allsaintsfl.org/events/compline-prayers-at-the-end-of-day-live-streamed-each-night-except-thursday-8-2/2027-07-17/
CATEGORIES:Worship
END:VEVENT
BEGIN:VEVENT
DTSTART;TZID=America/New_York:20270718T203000
DTEND;TZID=America/New_York:20270718T210000
DTSTAMP:20260423T093840
CREATED:20240213T192859Z
LAST-MODIFIED:20240213T193313Z
UID:10006047-1815942600-1815944400@allsaintsfl.org
SUMMARY:Compline (Prayers at the end of day) – Live-streamed each night except Thursday
DESCRIPTION:Join us for evening prayer on FaceBook Live or on Vimeo.  Go to https://facebook.com/asecfl and scroll down until you see “LIVE” or join us on  All Saints’ Vimeo Page at https://vimeo.com/allsaintsftl
URL:https://allsaintsfl.org/events/compline-prayers-at-the-end-of-day-live-streamed-each-night-except-thursday-8-2/2027-07-18/
CATEGORIES:Worship
END:VEVENT
BEGIN:VEVENT
DTSTART;TZID=America/New_York:20270719T203000
DTEND;TZID=America/New_York:20270719T210000
DTSTAMP:20260423T093840
CREATED:20240213T192859Z
LAST-MODIFIED:20240213T193313Z
UID:10007061-1816029000-1816030800@allsaintsfl.org
SUMMARY:Compline (Prayers at the end of day) – Live-streamed each night except Thursday
DESCRIPTION:Join us for evening prayer on FaceBook Live or on Vimeo.  Go to https://facebook.com/asecfl and scroll down until you see “LIVE” or join us on  All Saints’ Vimeo Page at https://vimeo.com/allsaintsftl
URL:https://allsaintsfl.org/events/compline-prayers-at-the-end-of-day-live-streamed-each-night-except-thursday-8-2/2027-07-19/
CATEGORIES:Worship
END:VEVENT
BEGIN:VEVENT
DTSTART;TZID=America/New_York:20270720T203000
DTEND;TZID=America/New_York:20270720T210000
DTSTAMP:20260423T093840
CREATED:20240213T192859Z
LAST-MODIFIED:20240213T193313Z
UID:10007062-1816115400-1816117200@allsaintsfl.org
SUMMARY:Compline (Prayers at the end of day) – Live-streamed each night except Thursday
DESCRIPTION:Join us for evening prayer on FaceBook Live or on Vimeo.  Go to https://facebook.com/asecfl and scroll down until you see “LIVE” or join us on  All Saints’ Vimeo Page at https://vimeo.com/allsaintsftl
URL:https://allsaintsfl.org/events/compline-prayers-at-the-end-of-day-live-streamed-each-night-except-thursday-8-2/2027-07-20/
CATEGORIES:Worship
END:VEVENT
BEGIN:VEVENT
DTSTART;TZID=America/New_York:20270721T120000
DTEND;TZID=America/New_York:20270721T130000
DTSTAMP:20260423T093840
CREATED:20231021T162524Z
LAST-MODIFIED:20240213T192227Z
UID:10002253-1816171200-1816174800@allsaintsfl.org
SUMMARY:Wednesday Healing Eucharist
DESCRIPTION:Join us each Wednesday at 12:05 p.m. for a special service of prayer for healing followed by the Holy Eucharist.  This service is held in St. Luke’s chapel on the river side of the church. \nYou may attend in person or via livestream on Vimeo and Facebook Live.  The links for the livestream are posted on the Home Page each week.
URL:https://allsaintsfl.org/events/wednesday-healing-eucharist-2/2027-07-21/
LOCATION:St. Luke’s Chapel
CATEGORIES:Events,Worship
END:VEVENT
BEGIN:VEVENT
DTSTART;TZID=America/New_York:20270721T203000
DTEND;TZID=America/New_York:20270721T210000
DTSTAMP:20260423T093840
CREATED:20240213T192859Z
LAST-MODIFIED:20240213T193313Z
UID:10007063-1816201800-1816203600@allsaintsfl.org
SUMMARY:Compline (Prayers at the end of day) – Live-streamed each night except Thursday
DESCRIPTION:Join us for evening prayer on FaceBook Live or on Vimeo.  Go to https://facebook.com/asecfl and scroll down until you see “LIVE” or join us on  All Saints’ Vimeo Page at https://vimeo.com/allsaintsftl
URL:https://allsaintsfl.org/events/compline-prayers-at-the-end-of-day-live-streamed-each-night-except-thursday-8-2/2027-07-21/
CATEGORIES:Worship
END:VEVENT
BEGIN:VEVENT
DTSTART;TZID=America/New_York:20270723T203000
DTEND;TZID=America/New_York:20270723T210000
DTSTAMP:20260423T093840
CREATED:20240213T192859Z
LAST-MODIFIED:20240213T193313Z
UID:10007064-1816374600-1816376400@allsaintsfl.org
SUMMARY:Compline (Prayers at the end of day) – Live-streamed each night except Thursday
DESCRIPTION:Join us for evening prayer on FaceBook Live or on Vimeo.  Go to https://facebook.com/asecfl and scroll down until you see “LIVE” or join us on  All Saints’ Vimeo Page at https://vimeo.com/allsaintsftl
URL:https://allsaintsfl.org/events/compline-prayers-at-the-end-of-day-live-streamed-each-night-except-thursday-8-2/2027-07-23/
CATEGORIES:Worship
END:VEVENT
BEGIN:VEVENT
DTSTART;TZID=America/New_York:20270724T203000
DTEND;TZID=America/New_York:20270724T210000
DTSTAMP:20260423T093840
CREATED:20240213T192859Z
LAST-MODIFIED:20240213T193313Z
UID:10007065-1816461000-1816462800@allsaintsfl.org
SUMMARY:Compline (Prayers at the end of day) – Live-streamed each night except Thursday
DESCRIPTION:Join us for evening prayer on FaceBook Live or on Vimeo.  Go to https://facebook.com/asecfl and scroll down until you see “LIVE” or join us on  All Saints’ Vimeo Page at https://vimeo.com/allsaintsftl
URL:https://allsaintsfl.org/events/compline-prayers-at-the-end-of-day-live-streamed-each-night-except-thursday-8-2/2027-07-24/
CATEGORIES:Worship
END:VEVENT
BEGIN:VEVENT
DTSTART;TZID=America/New_York:20270725T203000
DTEND;TZID=America/New_York:20270725T210000
DTSTAMP:20260423T093840
CREATED:20240213T192859Z
LAST-MODIFIED:20240213T193313Z
UID:10006048-1816547400-1816549200@allsaintsfl.org
SUMMARY:Compline (Prayers at the end of day) – Live-streamed each night except Thursday
DESCRIPTION:Join us for evening prayer on FaceBook Live or on Vimeo.  Go to https://facebook.com/asecfl and scroll down until you see “LIVE” or join us on  All Saints’ Vimeo Page at https://vimeo.com/allsaintsftl
URL:https://allsaintsfl.org/events/compline-prayers-at-the-end-of-day-live-streamed-each-night-except-thursday-8-2/2027-07-25/
CATEGORIES:Worship
END:VEVENT
BEGIN:VEVENT
DTSTART;TZID=America/New_York:20270726T203000
DTEND;TZID=America/New_York:20270726T210000
DTSTAMP:20260423T093840
CREATED:20240213T192859Z
LAST-MODIFIED:20240213T193313Z
UID:10007066-1816633800-1816635600@allsaintsfl.org
SUMMARY:Compline (Prayers at the end of day) – Live-streamed each night except Thursday
DESCRIPTION:Join us for evening prayer on FaceBook Live or on Vimeo.  Go to https://facebook.com/asecfl and scroll down until you see “LIVE” or join us on  All Saints’ Vimeo Page at https://vimeo.com/allsaintsftl
URL:https://allsaintsfl.org/events/compline-prayers-at-the-end-of-day-live-streamed-each-night-except-thursday-8-2/2027-07-26/
CATEGORIES:Worship
END:VEVENT
BEGIN:VEVENT
DTSTART;TZID=America/New_York:20270727T203000
DTEND;TZID=America/New_York:20270727T210000
DTSTAMP:20260423T093840
CREATED:20240213T192859Z
LAST-MODIFIED:20240213T193313Z
UID:10007067-1816720200-1816722000@allsaintsfl.org
SUMMARY:Compline (Prayers at the end of day) – Live-streamed each night except Thursday
DESCRIPTION:Join us for evening prayer on FaceBook Live or on Vimeo.  Go to https://facebook.com/asecfl and scroll down until you see “LIVE” or join us on  All Saints’ Vimeo Page at https://vimeo.com/allsaintsftl
URL:https://allsaintsfl.org/events/compline-prayers-at-the-end-of-day-live-streamed-each-night-except-thursday-8-2/2027-07-27/
CATEGORIES:Worship
END:VEVENT
BEGIN:VEVENT
DTSTART;TZID=America/New_York:20270728T120000
DTEND;TZID=America/New_York:20270728T130000
DTSTAMP:20260423T093840
CREATED:20231021T162524Z
LAST-MODIFIED:20240213T192227Z
UID:10002254-1816776000-1816779600@allsaintsfl.org
SUMMARY:Wednesday Healing Eucharist
DESCRIPTION:Join us each Wednesday at 12:05 p.m. for a special service of prayer for healing followed by the Holy Eucharist.  This service is held in St. Luke’s chapel on the river side of the church. \nYou may attend in person or via livestream on Vimeo and Facebook Live.  The links for the livestream are posted on the Home Page each week.
URL:https://allsaintsfl.org/events/wednesday-healing-eucharist-2/2027-07-28/
LOCATION:St. Luke’s Chapel
CATEGORIES:Events,Worship
END:VEVENT
BEGIN:VEVENT
DTSTART;TZID=America/New_York:20270728T203000
DTEND;TZID=America/New_York:20270728T210000
DTSTAMP:20260423T093840
CREATED:20240213T192859Z
LAST-MODIFIED:20240213T193313Z
UID:10007068-1816806600-1816808400@allsaintsfl.org
SUMMARY:Compline (Prayers at the end of day) – Live-streamed each night except Thursday
DESCRIPTION:Join us for evening prayer on FaceBook Live or on Vimeo.  Go to https://facebook.com/asecfl and scroll down until you see “LIVE” or join us on  All Saints’ Vimeo Page at https://vimeo.com/allsaintsftl
URL:https://allsaintsfl.org/events/compline-prayers-at-the-end-of-day-live-streamed-each-night-except-thursday-8-2/2027-07-28/
CATEGORIES:Worship
END:VEVENT
BEGIN:VEVENT
DTSTART;TZID=America/New_York:20270730T203000
DTEND;TZID=America/New_York:20270730T210000
DTSTAMP:20260423T093840
CREATED:20240213T192859Z
LAST-MODIFIED:20240213T193313Z
UID:10007069-1816979400-1816981200@allsaintsfl.org
SUMMARY:Compline (Prayers at the end of day) – Live-streamed each night except Thursday
DESCRIPTION:Join us for evening prayer on FaceBook Live or on Vimeo.  Go to https://facebook.com/asecfl and scroll down until you see “LIVE” or join us on  All Saints’ Vimeo Page at https://vimeo.com/allsaintsftl
URL:https://allsaintsfl.org/events/compline-prayers-at-the-end-of-day-live-streamed-each-night-except-thursday-8-2/2027-07-30/
CATEGORIES:Worship
END:VEVENT
BEGIN:VEVENT
DTSTART;TZID=America/New_York:20270731T203000
DTEND;TZID=America/New_York:20270731T210000
DTSTAMP:20260423T093840
CREATED:20240213T192859Z
LAST-MODIFIED:20240213T193313Z
UID:10007070-1817065800-1817067600@allsaintsfl.org
SUMMARY:Compline (Prayers at the end of day) – Live-streamed each night except Thursday
DESCRIPTION:Join us for evening prayer on FaceBook Live or on Vimeo.  Go to https://facebook.com/asecfl and scroll down until you see “LIVE” or join us on  All Saints’ Vimeo Page at https://vimeo.com/allsaintsftl
URL:https://allsaintsfl.org/events/compline-prayers-at-the-end-of-day-live-streamed-each-night-except-thursday-8-2/2027-07-31/
CATEGORIES:Worship
END:VEVENT
END:VCALENDAR