BEGIN:VCALENDAR
VERSION:2.0
PRODID:-//All Saints Episcopal Church - ECPv6.15.20//NONSGML v1.0//EN
CALSCALE:GREGORIAN
METHOD:PUBLISH
X-WR-CALNAME:All Saints Episcopal Church
X-ORIGINAL-URL:https://allsaintsfl.org
X-WR-CALDESC:Events for All Saints Episcopal Church
REFRESH-INTERVAL;VALUE=DURATION:PT1H
X-Robots-Tag:noindex
X-PUBLISHED-TTL:PT1H
BEGIN:VTIMEZONE
TZID:America/New_York
BEGIN:DAYLIGHT
TZOFFSETFROM:-0500
TZOFFSETTO:-0400
TZNAME:EDT
DTSTART:20260308T070000
END:DAYLIGHT
BEGIN:STANDARD
TZOFFSETFROM:-0400
TZOFFSETTO:-0500
TZNAME:EST
DTSTART:20261101T060000
END:STANDARD
BEGIN:DAYLIGHT
TZOFFSETFROM:-0500
TZOFFSETTO:-0400
TZNAME:EDT
DTSTART:20270314T070000
END:DAYLIGHT
BEGIN:STANDARD
TZOFFSETFROM:-0400
TZOFFSETTO:-0500
TZNAME:EST
DTSTART:20271107T060000
END:STANDARD
BEGIN:DAYLIGHT
TZOFFSETFROM:-0500
TZOFFSETTO:-0400
TZNAME:EDT
DTSTART:20280312T070000
END:DAYLIGHT
BEGIN:STANDARD
TZOFFSETFROM:-0400
TZOFFSETTO:-0500
TZNAME:EST
DTSTART:20281105T060000
END:STANDARD
END:VTIMEZONE
BEGIN:VEVENT
DTSTART;TZID=America/New_York:20270910T203000
DTEND;TZID=America/New_York:20270910T210000
DTSTAMP:20260420T235531
CREATED:20240213T192859Z
LAST-MODIFIED:20240213T193313Z
UID:10007099-1820608200-1820610000@allsaintsfl.org
SUMMARY:Compline (Prayers at the end of day) – Live-streamed each night except Thursday
DESCRIPTION:Join us for evening prayer on FaceBook Live or on Vimeo.  Go to https://facebook.com/asecfl and scroll down until you see “LIVE” or join us on  All Saints’ Vimeo Page at https://vimeo.com/allsaintsftl
URL:https://allsaintsfl.org/events/compline-prayers-at-the-end-of-day-live-streamed-each-night-except-thursday-8-2/2027-09-10/
CATEGORIES:Worship
END:VEVENT
BEGIN:VEVENT
DTSTART;TZID=America/New_York:20270911T203000
DTEND;TZID=America/New_York:20270911T210000
DTSTAMP:20260420T235531
CREATED:20240213T192859Z
LAST-MODIFIED:20240213T193313Z
UID:10007100-1820694600-1820696400@allsaintsfl.org
SUMMARY:Compline (Prayers at the end of day) – Live-streamed each night except Thursday
DESCRIPTION:Join us for evening prayer on FaceBook Live or on Vimeo.  Go to https://facebook.com/asecfl and scroll down until you see “LIVE” or join us on  All Saints’ Vimeo Page at https://vimeo.com/allsaintsftl
URL:https://allsaintsfl.org/events/compline-prayers-at-the-end-of-day-live-streamed-each-night-except-thursday-8-2/2027-09-11/
CATEGORIES:Worship
END:VEVENT
BEGIN:VEVENT
DTSTART;TZID=America/New_York:20270912T080000
DTEND;TZID=America/New_York:20270912T090000
DTSTAMP:20260420T235531
CREATED:20211206T204051Z
LAST-MODIFIED:20240202T213028Z
UID:10005257-1820736000-1820739600@allsaintsfl.org
SUMMARY:Sunday Morning Holy Eucharist 8:00 AM (In-person; Not livestreamed)
DESCRIPTION:
URL:https://allsaintsfl.org/events/800-am-in-person-20211212/2027-09-12/
END:VEVENT
BEGIN:VEVENT
DTSTART;TZID=America/New_York:20270912T103000
DTEND;TZID=America/New_York:20270912T120000
DTSTAMP:20260420T235531
CREATED:20231204T223602Z
LAST-MODIFIED:20241028T172255Z
UID:10005519-1820745000-1820750400@allsaintsfl.org
SUMMARY:Sunday Morning Holy Eucharist 10:30 AM (In-person; Livestreamed)
DESCRIPTION:Check Home Page for link to this service.
URL:https://allsaintsfl.org/events/sunday-morning-holy-eucharist-1030-am-in-person-livestreamed/2027-09-12/
END:VEVENT
BEGIN:VEVENT
DTSTART;TZID=America/New_York:20270912T120000
DTEND;TZID=America/New_York:20270912T130000
DTSTAMP:20260420T235531
CREATED:20240805T180105Z
LAST-MODIFIED:20241024T163659Z
UID:10007868-1820750400-1820754000@allsaintsfl.org
SUMMARY:Sunday Reflections  Group
DESCRIPTION:New for the Fall: Sunday Reflections group \n \nJoin us every Sunday after the 10:30 a.m. service as we delve into the Sunday scriptures and sermons in our program designed for those from all backgrounds and levels of experience. You can come as often as you like. All you need to participate is a willingness to share your insights and perspectives on the Scriptures and an openness to exploring how the readings and sermons from the Sunday services can be applied to our lives. Bring your bulletin so we can refer back to the readings together in our discussion. This program will start on Sunday\, September 15\, 2024 and continue every Sunday thereafter. \nBenefits: \n\nDeepen your understanding and appreciation of the relevance of the scriptures today.\nConnect with others in a supportive environment.\nGain practical insights on how to apply the Sunday scriptures and sermons to your daily life.
URL:https://allsaintsfl.org/events/sunday-reflections-group/2027-09-12/
CATEGORIES:Events
END:VEVENT
BEGIN:VEVENT
DTSTART;TZID=America/New_York:20270912T203000
DTEND;TZID=America/New_York:20270912T210000
DTSTAMP:20260420T235531
CREATED:20240213T192859Z
LAST-MODIFIED:20240213T193313Z
UID:10006055-1820781000-1820782800@allsaintsfl.org
SUMMARY:Compline (Prayers at the end of day) – Live-streamed each night except Thursday
DESCRIPTION:Join us for evening prayer on FaceBook Live or on Vimeo.  Go to https://facebook.com/asecfl and scroll down until you see “LIVE” or join us on  All Saints’ Vimeo Page at https://vimeo.com/allsaintsftl
URL:https://allsaintsfl.org/events/compline-prayers-at-the-end-of-day-live-streamed-each-night-except-thursday-8-2/2027-09-12/
CATEGORIES:Worship
END:VEVENT
BEGIN:VEVENT
DTSTART;TZID=America/New_York:20270913T130000
DTEND;TZID=America/New_York:20270913T160000
DTSTAMP:20260420T235531
CREATED:20240602T182033Z
LAST-MODIFIED:20240602T182036Z
UID:10007536-1820840400-1820851200@allsaintsfl.org
SUMMARY:Bridge Club (Neaverson)
DESCRIPTION:
URL:https://allsaintsfl.org/events/bridge-club-neaverson-2-2/2027-09-13/
END:VEVENT
BEGIN:VEVENT
DTSTART;TZID=America/New_York:20270913T203000
DTEND;TZID=America/New_York:20270913T210000
DTSTAMP:20260420T235531
CREATED:20240213T192859Z
LAST-MODIFIED:20240213T193313Z
UID:10007101-1820867400-1820869200@allsaintsfl.org
SUMMARY:Compline (Prayers at the end of day) – Live-streamed each night except Thursday
DESCRIPTION:Join us for evening prayer on FaceBook Live or on Vimeo.  Go to https://facebook.com/asecfl and scroll down until you see “LIVE” or join us on  All Saints’ Vimeo Page at https://vimeo.com/allsaintsftl
URL:https://allsaintsfl.org/events/compline-prayers-at-the-end-of-day-live-streamed-each-night-except-thursday-8-2/2027-09-13/
CATEGORIES:Worship
END:VEVENT
BEGIN:VEVENT
DTSTART;TZID=America/New_York:20270914T160000
DTEND;TZID=America/New_York:20270914T190000
DTSTAMP:20260420T235531
CREATED:20231021T165036Z
LAST-MODIFIED:20231021T165036Z
UID:10004984-1820937600-1820948400@allsaintsfl.org
SUMMARY:Laundry Love - Hollywood
DESCRIPTION:The Laundry Spot Hollywood\, 1410 N Federal Highway\, Hollywood\, FL 33020
URL:https://allsaintsfl.org/events/laundry-love-hollywood/2027-09-14/
END:VEVENT
BEGIN:VEVENT
DTSTART;TZID=America/New_York:20270914T203000
DTEND;TZID=America/New_York:20270914T210000
DTSTAMP:20260420T235531
CREATED:20240213T192859Z
LAST-MODIFIED:20240213T193313Z
UID:10007102-1820953800-1820955600@allsaintsfl.org
SUMMARY:Compline (Prayers at the end of day) – Live-streamed each night except Thursday
DESCRIPTION:Join us for evening prayer on FaceBook Live or on Vimeo.  Go to https://facebook.com/asecfl and scroll down until you see “LIVE” or join us on  All Saints’ Vimeo Page at https://vimeo.com/allsaintsftl
URL:https://allsaintsfl.org/events/compline-prayers-at-the-end-of-day-live-streamed-each-night-except-thursday-8-2/2027-09-14/
CATEGORIES:Worship
END:VEVENT
BEGIN:VEVENT
DTSTART;TZID=America/New_York:20270915T120000
DTEND;TZID=America/New_York:20270915T130000
DTSTAMP:20260420T235531
CREATED:20231021T162524Z
LAST-MODIFIED:20240213T192227Z
UID:10002261-1821009600-1821013200@allsaintsfl.org
SUMMARY:Wednesday Healing Eucharist
DESCRIPTION:Join us each Wednesday at 12:05 p.m. for a special service of prayer for healing followed by the Holy Eucharist.  This service is held in St. Luke’s chapel on the river side of the church. \nYou may attend in person or via livestream on Vimeo and Facebook Live.  The links for the livestream are posted on the Home Page each week.
URL:https://allsaintsfl.org/events/wednesday-healing-eucharist-2/2027-09-15/
LOCATION:St. Luke’s Chapel
CATEGORIES:Events,Worship
END:VEVENT
BEGIN:VEVENT
DTSTART;TZID=America/New_York:20270915T203000
DTEND;TZID=America/New_York:20270915T210000
DTSTAMP:20260420T235531
CREATED:20240213T192859Z
LAST-MODIFIED:20240213T193313Z
UID:10007103-1821040200-1821042000@allsaintsfl.org
SUMMARY:Compline (Prayers at the end of day) – Live-streamed each night except Thursday
DESCRIPTION:Join us for evening prayer on FaceBook Live or on Vimeo.  Go to https://facebook.com/asecfl and scroll down until you see “LIVE” or join us on  All Saints’ Vimeo Page at https://vimeo.com/allsaintsftl
URL:https://allsaintsfl.org/events/compline-prayers-at-the-end-of-day-live-streamed-each-night-except-thursday-8-2/2027-09-15/
CATEGORIES:Worship
END:VEVENT
BEGIN:VEVENT
DTSTART;TZID=America/New_York:20270916T183000
DTEND;TZID=America/New_York:20270916T190000
DTSTAMP:20260420T235531
CREATED:20200219T220329Z
LAST-MODIFIED:20231205T154906Z
UID:10004639-1821119400-1821121200@allsaintsfl.org
SUMMARY:Vespers (Evening Prayer) - Livestreamed
DESCRIPTION:Join us for evening prayer on FaceBook Live or on Vimeo.  Go to https://facebook.com/asecfl and scroll down until you see “LIVE” or join us on  All Saints’ Vimeo Page at https://vimeo\,com/allsaintsftl
URL:https://allsaintsfl.org/events/vespers-2020-10-15-2022-06-16/2027-09-16/
END:VEVENT
BEGIN:VEVENT
DTSTART;TZID=America/New_York:20270917T203000
DTEND;TZID=America/New_York:20270917T210000
DTSTAMP:20260420T235531
CREATED:20240213T192859Z
LAST-MODIFIED:20240213T193313Z
UID:10007104-1821213000-1821214800@allsaintsfl.org
SUMMARY:Compline (Prayers at the end of day) – Live-streamed each night except Thursday
DESCRIPTION:Join us for evening prayer on FaceBook Live or on Vimeo.  Go to https://facebook.com/asecfl and scroll down until you see “LIVE” or join us on  All Saints’ Vimeo Page at https://vimeo.com/allsaintsftl
URL:https://allsaintsfl.org/events/compline-prayers-at-the-end-of-day-live-streamed-each-night-except-thursday-8-2/2027-09-17/
CATEGORIES:Worship
END:VEVENT
BEGIN:VEVENT
DTSTART;TZID=America/New_York:20270918T203000
DTEND;TZID=America/New_York:20270918T210000
DTSTAMP:20260420T235531
CREATED:20240213T192859Z
LAST-MODIFIED:20240213T193313Z
UID:10007105-1821299400-1821301200@allsaintsfl.org
SUMMARY:Compline (Prayers at the end of day) – Live-streamed each night except Thursday
DESCRIPTION:Join us for evening prayer on FaceBook Live or on Vimeo.  Go to https://facebook.com/asecfl and scroll down until you see “LIVE” or join us on  All Saints’ Vimeo Page at https://vimeo.com/allsaintsftl
URL:https://allsaintsfl.org/events/compline-prayers-at-the-end-of-day-live-streamed-each-night-except-thursday-8-2/2027-09-18/
CATEGORIES:Worship
END:VEVENT
BEGIN:VEVENT
DTSTART;TZID=America/New_York:20270919T080000
DTEND;TZID=America/New_York:20270919T090000
DTSTAMP:20260420T235531
CREATED:20211206T204051Z
LAST-MODIFIED:20240202T213028Z
UID:10005258-1821340800-1821344400@allsaintsfl.org
SUMMARY:Sunday Morning Holy Eucharist 8:00 AM (In-person; Not livestreamed)
DESCRIPTION:
URL:https://allsaintsfl.org/events/800-am-in-person-20211212/2027-09-19/
END:VEVENT
BEGIN:VEVENT
DTSTART;TZID=America/New_York:20270919T103000
DTEND;TZID=America/New_York:20270919T120000
DTSTAMP:20260420T235531
CREATED:20231204T223602Z
LAST-MODIFIED:20241028T172255Z
UID:10005520-1821349800-1821355200@allsaintsfl.org
SUMMARY:Sunday Morning Holy Eucharist 10:30 AM (In-person; Livestreamed)
DESCRIPTION:Check Home Page for link to this service.
URL:https://allsaintsfl.org/events/sunday-morning-holy-eucharist-1030-am-in-person-livestreamed/2027-09-19/
END:VEVENT
BEGIN:VEVENT
DTSTART;TZID=America/New_York:20270919T120000
DTEND;TZID=America/New_York:20270919T130000
DTSTAMP:20260420T235531
CREATED:20240805T180105Z
LAST-MODIFIED:20241024T163659Z
UID:10007869-1821355200-1821358800@allsaintsfl.org
SUMMARY:Sunday Reflections  Group
DESCRIPTION:New for the Fall: Sunday Reflections group \n \nJoin us every Sunday after the 10:30 a.m. service as we delve into the Sunday scriptures and sermons in our program designed for those from all backgrounds and levels of experience. You can come as often as you like. All you need to participate is a willingness to share your insights and perspectives on the Scriptures and an openness to exploring how the readings and sermons from the Sunday services can be applied to our lives. Bring your bulletin so we can refer back to the readings together in our discussion. This program will start on Sunday\, September 15\, 2024 and continue every Sunday thereafter. \nBenefits: \n\nDeepen your understanding and appreciation of the relevance of the scriptures today.\nConnect with others in a supportive environment.\nGain practical insights on how to apply the Sunday scriptures and sermons to your daily life.
URL:https://allsaintsfl.org/events/sunday-reflections-group/2027-09-19/
CATEGORIES:Events
END:VEVENT
BEGIN:VEVENT
DTSTART;TZID=America/New_York:20270919T203000
DTEND;TZID=America/New_York:20270919T210000
DTSTAMP:20260420T235531
CREATED:20240213T192859Z
LAST-MODIFIED:20240213T193313Z
UID:10006056-1821385800-1821387600@allsaintsfl.org
SUMMARY:Compline (Prayers at the end of day) – Live-streamed each night except Thursday
DESCRIPTION:Join us for evening prayer on FaceBook Live or on Vimeo.  Go to https://facebook.com/asecfl and scroll down until you see “LIVE” or join us on  All Saints’ Vimeo Page at https://vimeo.com/allsaintsftl
URL:https://allsaintsfl.org/events/compline-prayers-at-the-end-of-day-live-streamed-each-night-except-thursday-8-2/2027-09-19/
CATEGORIES:Worship
END:VEVENT
BEGIN:VEVENT
DTSTART;TZID=America/New_York:20270920T203000
DTEND;TZID=America/New_York:20270920T210000
DTSTAMP:20260420T235531
CREATED:20240213T192859Z
LAST-MODIFIED:20240213T193313Z
UID:10007106-1821472200-1821474000@allsaintsfl.org
SUMMARY:Compline (Prayers at the end of day) – Live-streamed each night except Thursday
DESCRIPTION:Join us for evening prayer on FaceBook Live or on Vimeo.  Go to https://facebook.com/asecfl and scroll down until you see “LIVE” or join us on  All Saints’ Vimeo Page at https://vimeo.com/allsaintsftl
URL:https://allsaintsfl.org/events/compline-prayers-at-the-end-of-day-live-streamed-each-night-except-thursday-8-2/2027-09-20/
CATEGORIES:Worship
END:VEVENT
BEGIN:VEVENT
DTSTART;TZID=America/New_York:20270921T203000
DTEND;TZID=America/New_York:20270921T210000
DTSTAMP:20260420T235531
CREATED:20240213T192859Z
LAST-MODIFIED:20240213T193313Z
UID:10007107-1821558600-1821560400@allsaintsfl.org
SUMMARY:Compline (Prayers at the end of day) – Live-streamed each night except Thursday
DESCRIPTION:Join us for evening prayer on FaceBook Live or on Vimeo.  Go to https://facebook.com/asecfl and scroll down until you see “LIVE” or join us on  All Saints’ Vimeo Page at https://vimeo.com/allsaintsftl
URL:https://allsaintsfl.org/events/compline-prayers-at-the-end-of-day-live-streamed-each-night-except-thursday-8-2/2027-09-21/
CATEGORIES:Worship
END:VEVENT
BEGIN:VEVENT
DTSTART;TZID=America/New_York:20270922T120000
DTEND;TZID=America/New_York:20270922T130000
DTSTAMP:20260420T235531
CREATED:20231021T162524Z
LAST-MODIFIED:20240213T192227Z
UID:10002262-1821614400-1821618000@allsaintsfl.org
SUMMARY:Wednesday Healing Eucharist
DESCRIPTION:Join us each Wednesday at 12:05 p.m. for a special service of prayer for healing followed by the Holy Eucharist.  This service is held in St. Luke’s chapel on the river side of the church. \nYou may attend in person or via livestream on Vimeo and Facebook Live.  The links for the livestream are posted on the Home Page each week.
URL:https://allsaintsfl.org/events/wednesday-healing-eucharist-2/2027-09-22/
LOCATION:St. Luke’s Chapel
CATEGORIES:Events,Worship
END:VEVENT
BEGIN:VEVENT
DTSTART;TZID=America/New_York:20270922T203000
DTEND;TZID=America/New_York:20270922T210000
DTSTAMP:20260420T235531
CREATED:20240213T192859Z
LAST-MODIFIED:20240213T193313Z
UID:10007108-1821645000-1821646800@allsaintsfl.org
SUMMARY:Compline (Prayers at the end of day) – Live-streamed each night except Thursday
DESCRIPTION:Join us for evening prayer on FaceBook Live or on Vimeo.  Go to https://facebook.com/asecfl and scroll down until you see “LIVE” or join us on  All Saints’ Vimeo Page at https://vimeo.com/allsaintsftl
URL:https://allsaintsfl.org/events/compline-prayers-at-the-end-of-day-live-streamed-each-night-except-thursday-8-2/2027-09-22/
CATEGORIES:Worship
END:VEVENT
BEGIN:VEVENT
DTSTART;TZID=America/New_York:20270923T183000
DTEND;TZID=America/New_York:20270923T190000
DTSTAMP:20260420T235531
CREATED:20200219T220329Z
LAST-MODIFIED:20231205T154906Z
UID:10004640-1821724200-1821726000@allsaintsfl.org
SUMMARY:Vespers (Evening Prayer) - Livestreamed
DESCRIPTION:Join us for evening prayer on FaceBook Live or on Vimeo.  Go to https://facebook.com/asecfl and scroll down until you see “LIVE” or join us on  All Saints’ Vimeo Page at https://vimeo\,com/allsaintsftl
URL:https://allsaintsfl.org/events/vespers-2020-10-15-2022-06-16/2027-09-23/
END:VEVENT
BEGIN:VEVENT
DTSTART;TZID=America/New_York:20270924T203000
DTEND;TZID=America/New_York:20270924T210000
DTSTAMP:20260420T235531
CREATED:20240213T192859Z
LAST-MODIFIED:20240213T193313Z
UID:10007109-1821817800-1821819600@allsaintsfl.org
SUMMARY:Compline (Prayers at the end of day) – Live-streamed each night except Thursday
DESCRIPTION:Join us for evening prayer on FaceBook Live or on Vimeo.  Go to https://facebook.com/asecfl and scroll down until you see “LIVE” or join us on  All Saints’ Vimeo Page at https://vimeo.com/allsaintsftl
URL:https://allsaintsfl.org/events/compline-prayers-at-the-end-of-day-live-streamed-each-night-except-thursday-8-2/2027-09-24/
CATEGORIES:Worship
END:VEVENT
BEGIN:VEVENT
DTSTART;TZID=America/New_York:20270925T203000
DTEND;TZID=America/New_York:20270925T210000
DTSTAMP:20260420T235531
CREATED:20240213T192859Z
LAST-MODIFIED:20240213T193313Z
UID:10007110-1821904200-1821906000@allsaintsfl.org
SUMMARY:Compline (Prayers at the end of day) – Live-streamed each night except Thursday
DESCRIPTION:Join us for evening prayer on FaceBook Live or on Vimeo.  Go to https://facebook.com/asecfl and scroll down until you see “LIVE” or join us on  All Saints’ Vimeo Page at https://vimeo.com/allsaintsftl
URL:https://allsaintsfl.org/events/compline-prayers-at-the-end-of-day-live-streamed-each-night-except-thursday-8-2/2027-09-25/
CATEGORIES:Worship
END:VEVENT
BEGIN:VEVENT
DTSTART;TZID=America/New_York:20270926T080000
DTEND;TZID=America/New_York:20270926T090000
DTSTAMP:20260420T235531
CREATED:20211206T204051Z
LAST-MODIFIED:20240202T213028Z
UID:10005259-1821945600-1821949200@allsaintsfl.org
SUMMARY:Sunday Morning Holy Eucharist 8:00 AM (In-person; Not livestreamed)
DESCRIPTION:
URL:https://allsaintsfl.org/events/800-am-in-person-20211212/2027-09-26/
END:VEVENT
BEGIN:VEVENT
DTSTART;TZID=America/New_York:20270926T103000
DTEND;TZID=America/New_York:20270926T120000
DTSTAMP:20260420T235531
CREATED:20231204T223602Z
LAST-MODIFIED:20241028T172255Z
UID:10005521-1821954600-1821960000@allsaintsfl.org
SUMMARY:Sunday Morning Holy Eucharist 10:30 AM (In-person; Livestreamed)
DESCRIPTION:Check Home Page for link to this service.
URL:https://allsaintsfl.org/events/sunday-morning-holy-eucharist-1030-am-in-person-livestreamed/2027-09-26/
END:VEVENT
BEGIN:VEVENT
DTSTART;TZID=America/New_York:20270926T120000
DTEND;TZID=America/New_York:20270926T130000
DTSTAMP:20260420T235531
CREATED:20240805T180105Z
LAST-MODIFIED:20241024T163659Z
UID:10007870-1821960000-1821963600@allsaintsfl.org
SUMMARY:Sunday Reflections  Group
DESCRIPTION:New for the Fall: Sunday Reflections group \n \nJoin us every Sunday after the 10:30 a.m. service as we delve into the Sunday scriptures and sermons in our program designed for those from all backgrounds and levels of experience. You can come as often as you like. All you need to participate is a willingness to share your insights and perspectives on the Scriptures and an openness to exploring how the readings and sermons from the Sunday services can be applied to our lives. Bring your bulletin so we can refer back to the readings together in our discussion. This program will start on Sunday\, September 15\, 2024 and continue every Sunday thereafter. \nBenefits: \n\nDeepen your understanding and appreciation of the relevance of the scriptures today.\nConnect with others in a supportive environment.\nGain practical insights on how to apply the Sunday scriptures and sermons to your daily life.
URL:https://allsaintsfl.org/events/sunday-reflections-group/2027-09-26/
CATEGORIES:Events
END:VEVENT
BEGIN:VEVENT
DTSTART;TZID=America/New_York:20270926T203000
DTEND;TZID=America/New_York:20270926T210000
DTSTAMP:20260420T235531
CREATED:20240213T192859Z
LAST-MODIFIED:20240213T193313Z
UID:10006057-1821990600-1821992400@allsaintsfl.org
SUMMARY:Compline (Prayers at the end of day) – Live-streamed each night except Thursday
DESCRIPTION:Join us for evening prayer on FaceBook Live or on Vimeo.  Go to https://facebook.com/asecfl and scroll down until you see “LIVE” or join us on  All Saints’ Vimeo Page at https://vimeo.com/allsaintsftl
URL:https://allsaintsfl.org/events/compline-prayers-at-the-end-of-day-live-streamed-each-night-except-thursday-8-2/2027-09-26/
CATEGORIES:Worship
END:VEVENT
END:VCALENDAR