BEGIN:VCALENDAR
VERSION:2.0
PRODID:-//All Saints Episcopal Church - ECPv6.15.20//NONSGML v1.0//EN
CALSCALE:GREGORIAN
METHOD:PUBLISH
X-WR-CALNAME:All Saints Episcopal Church
X-ORIGINAL-URL:https://allsaintsfl.org
X-WR-CALDESC:Events for All Saints Episcopal Church
REFRESH-INTERVAL;VALUE=DURATION:PT1H
X-Robots-Tag:noindex
X-PUBLISHED-TTL:PT1H
BEGIN:VTIMEZONE
TZID:America/New_York
BEGIN:DAYLIGHT
TZOFFSETFROM:-0500
TZOFFSETTO:-0400
TZNAME:EDT
DTSTART:20260308T070000
END:DAYLIGHT
BEGIN:STANDARD
TZOFFSETFROM:-0400
TZOFFSETTO:-0500
TZNAME:EST
DTSTART:20261101T060000
END:STANDARD
BEGIN:DAYLIGHT
TZOFFSETFROM:-0500
TZOFFSETTO:-0400
TZNAME:EDT
DTSTART:20270314T070000
END:DAYLIGHT
BEGIN:STANDARD
TZOFFSETFROM:-0400
TZOFFSETTO:-0500
TZNAME:EST
DTSTART:20271107T060000
END:STANDARD
BEGIN:DAYLIGHT
TZOFFSETFROM:-0500
TZOFFSETTO:-0400
TZNAME:EDT
DTSTART:20280312T070000
END:DAYLIGHT
BEGIN:STANDARD
TZOFFSETFROM:-0400
TZOFFSETTO:-0500
TZNAME:EST
DTSTART:20281105T060000
END:STANDARD
END:VTIMEZONE
BEGIN:VEVENT
DTSTART;TZID=America/New_York:20271113T203000
DTEND;TZID=America/New_York:20271113T210000
DTSTAMP:20260421T175929
CREATED:20240213T192859Z
LAST-MODIFIED:20240213T193313Z
UID:10007145-1826137800-1826139600@allsaintsfl.org
SUMMARY:Compline (Prayers at the end of day) – Live-streamed each night except Thursday
DESCRIPTION:Join us for evening prayer on FaceBook Live or on Vimeo.  Go to https://facebook.com/asecfl and scroll down until you see “LIVE” or join us on  All Saints’ Vimeo Page at https://vimeo.com/allsaintsftl
URL:https://allsaintsfl.org/events/compline-prayers-at-the-end-of-day-live-streamed-each-night-except-thursday-8-2/2027-11-13/
CATEGORIES:Worship
END:VEVENT
BEGIN:VEVENT
DTSTART;TZID=America/New_York:20271114T080000
DTEND;TZID=America/New_York:20271114T090000
DTSTAMP:20260421T175929
CREATED:20211206T204051Z
LAST-MODIFIED:20240202T213028Z
UID:10005266-1826179200-1826182800@allsaintsfl.org
SUMMARY:Sunday Morning Holy Eucharist 8:00 AM (In-person; Not livestreamed)
DESCRIPTION:
URL:https://allsaintsfl.org/events/800-am-in-person-20211212/2027-11-14/
END:VEVENT
BEGIN:VEVENT
DTSTART;TZID=America/New_York:20271114T103000
DTEND;TZID=America/New_York:20271114T120000
DTSTAMP:20260421T175929
CREATED:20231204T223602Z
LAST-MODIFIED:20241028T172255Z
UID:10005528-1826188200-1826193600@allsaintsfl.org
SUMMARY:Sunday Morning Holy Eucharist 10:30 AM (In-person; Livestreamed)
DESCRIPTION:Check Home Page for link to this service.
URL:https://allsaintsfl.org/events/sunday-morning-holy-eucharist-1030-am-in-person-livestreamed/2027-11-14/
END:VEVENT
BEGIN:VEVENT
DTSTART;TZID=America/New_York:20271114T120000
DTEND;TZID=America/New_York:20271114T130000
DTSTAMP:20260421T175929
CREATED:20240805T180105Z
LAST-MODIFIED:20241024T163659Z
UID:10007877-1826193600-1826197200@allsaintsfl.org
SUMMARY:Sunday Reflections  Group
DESCRIPTION:New for the Fall: Sunday Reflections group \n \nJoin us every Sunday after the 10:30 a.m. service as we delve into the Sunday scriptures and sermons in our program designed for those from all backgrounds and levels of experience. You can come as often as you like. All you need to participate is a willingness to share your insights and perspectives on the Scriptures and an openness to exploring how the readings and sermons from the Sunday services can be applied to our lives. Bring your bulletin so we can refer back to the readings together in our discussion. This program will start on Sunday\, September 15\, 2024 and continue every Sunday thereafter. \nBenefits: \n\nDeepen your understanding and appreciation of the relevance of the scriptures today.\nConnect with others in a supportive environment.\nGain practical insights on how to apply the Sunday scriptures and sermons to your daily life.
URL:https://allsaintsfl.org/events/sunday-reflections-group/2027-11-14/
CATEGORIES:Events
END:VEVENT
BEGIN:VEVENT
DTSTART;TZID=America/New_York:20271114T203000
DTEND;TZID=America/New_York:20271114T210000
DTSTAMP:20260421T175929
CREATED:20240213T192859Z
LAST-MODIFIED:20240213T193313Z
UID:10006064-1826224200-1826226000@allsaintsfl.org
SUMMARY:Compline (Prayers at the end of day) – Live-streamed each night except Thursday
DESCRIPTION:Join us for evening prayer on FaceBook Live or on Vimeo.  Go to https://facebook.com/asecfl and scroll down until you see “LIVE” or join us on  All Saints’ Vimeo Page at https://vimeo.com/allsaintsftl
URL:https://allsaintsfl.org/events/compline-prayers-at-the-end-of-day-live-streamed-each-night-except-thursday-8-2/2027-11-14/
CATEGORIES:Worship
END:VEVENT
BEGIN:VEVENT
DTSTART;TZID=America/New_York:20271115T203000
DTEND;TZID=America/New_York:20271115T210000
DTSTAMP:20260421T175929
CREATED:20240213T192859Z
LAST-MODIFIED:20240213T193313Z
UID:10007146-1826310600-1826312400@allsaintsfl.org
SUMMARY:Compline (Prayers at the end of day) – Live-streamed each night except Thursday
DESCRIPTION:Join us for evening prayer on FaceBook Live or on Vimeo.  Go to https://facebook.com/asecfl and scroll down until you see “LIVE” or join us on  All Saints’ Vimeo Page at https://vimeo.com/allsaintsftl
URL:https://allsaintsfl.org/events/compline-prayers-at-the-end-of-day-live-streamed-each-night-except-thursday-8-2/2027-11-15/
CATEGORIES:Worship
END:VEVENT
BEGIN:VEVENT
DTSTART;TZID=America/New_York:20271116T203000
DTEND;TZID=America/New_York:20271116T210000
DTSTAMP:20260421T175929
CREATED:20240213T192859Z
LAST-MODIFIED:20240213T193313Z
UID:10007147-1826397000-1826398800@allsaintsfl.org
SUMMARY:Compline (Prayers at the end of day) – Live-streamed each night except Thursday
DESCRIPTION:Join us for evening prayer on FaceBook Live or on Vimeo.  Go to https://facebook.com/asecfl and scroll down until you see “LIVE” or join us on  All Saints’ Vimeo Page at https://vimeo.com/allsaintsftl
URL:https://allsaintsfl.org/events/compline-prayers-at-the-end-of-day-live-streamed-each-night-except-thursday-8-2/2027-11-16/
CATEGORIES:Worship
END:VEVENT
BEGIN:VEVENT
DTSTART;TZID=America/New_York:20271117T120000
DTEND;TZID=America/New_York:20271117T130000
DTSTAMP:20260421T175929
CREATED:20231021T162524Z
LAST-MODIFIED:20240213T192227Z
UID:10002270-1826452800-1826456400@allsaintsfl.org
SUMMARY:Wednesday Healing Eucharist
DESCRIPTION:Join us each Wednesday at 12:05 p.m. for a special service of prayer for healing followed by the Holy Eucharist.  This service is held in St. Luke’s chapel on the river side of the church. \nYou may attend in person or via livestream on Vimeo and Facebook Live.  The links for the livestream are posted on the Home Page each week.
URL:https://allsaintsfl.org/events/wednesday-healing-eucharist-2/2027-11-17/
LOCATION:St. Luke’s Chapel
CATEGORIES:Events,Worship
END:VEVENT
BEGIN:VEVENT
DTSTART;TZID=America/New_York:20271117T203000
DTEND;TZID=America/New_York:20271117T210000
DTSTAMP:20260421T175929
CREATED:20240213T192859Z
LAST-MODIFIED:20240213T193313Z
UID:10007148-1826483400-1826485200@allsaintsfl.org
SUMMARY:Compline (Prayers at the end of day) – Live-streamed each night except Thursday
DESCRIPTION:Join us for evening prayer on FaceBook Live or on Vimeo.  Go to https://facebook.com/asecfl and scroll down until you see “LIVE” or join us on  All Saints’ Vimeo Page at https://vimeo.com/allsaintsftl
URL:https://allsaintsfl.org/events/compline-prayers-at-the-end-of-day-live-streamed-each-night-except-thursday-8-2/2027-11-17/
CATEGORIES:Worship
END:VEVENT
BEGIN:VEVENT
DTSTART;TZID=America/New_York:20271118T183000
DTEND;TZID=America/New_York:20271118T190000
DTSTAMP:20260421T175929
CREATED:20200219T220329Z
LAST-MODIFIED:20231205T154906Z
UID:10004648-1826562600-1826564400@allsaintsfl.org
SUMMARY:Vespers (Evening Prayer) - Livestreamed
DESCRIPTION:Join us for evening prayer on FaceBook Live or on Vimeo.  Go to https://facebook.com/asecfl and scroll down until you see “LIVE” or join us on  All Saints’ Vimeo Page at https://vimeo\,com/allsaintsftl
URL:https://allsaintsfl.org/events/vespers-2020-10-15-2022-06-16/2027-11-18/
END:VEVENT
BEGIN:VEVENT
DTSTART;TZID=America/New_York:20271119T203000
DTEND;TZID=America/New_York:20271119T210000
DTSTAMP:20260421T175929
CREATED:20240213T192859Z
LAST-MODIFIED:20240213T193313Z
UID:10007149-1826656200-1826658000@allsaintsfl.org
SUMMARY:Compline (Prayers at the end of day) – Live-streamed each night except Thursday
DESCRIPTION:Join us for evening prayer on FaceBook Live or on Vimeo.  Go to https://facebook.com/asecfl and scroll down until you see “LIVE” or join us on  All Saints’ Vimeo Page at https://vimeo.com/allsaintsftl
URL:https://allsaintsfl.org/events/compline-prayers-at-the-end-of-day-live-streamed-each-night-except-thursday-8-2/2027-11-19/
CATEGORIES:Worship
END:VEVENT
BEGIN:VEVENT
DTSTART;TZID=America/New_York:20271120T203000
DTEND;TZID=America/New_York:20271120T210000
DTSTAMP:20260421T175929
CREATED:20240213T192859Z
LAST-MODIFIED:20240213T193313Z
UID:10007150-1826742600-1826744400@allsaintsfl.org
SUMMARY:Compline (Prayers at the end of day) – Live-streamed each night except Thursday
DESCRIPTION:Join us for evening prayer on FaceBook Live or on Vimeo.  Go to https://facebook.com/asecfl and scroll down until you see “LIVE” or join us on  All Saints’ Vimeo Page at https://vimeo.com/allsaintsftl
URL:https://allsaintsfl.org/events/compline-prayers-at-the-end-of-day-live-streamed-each-night-except-thursday-8-2/2027-11-20/
CATEGORIES:Worship
END:VEVENT
BEGIN:VEVENT
DTSTART;TZID=America/New_York:20271121T080000
DTEND;TZID=America/New_York:20271121T090000
DTSTAMP:20260421T175929
CREATED:20211206T204051Z
LAST-MODIFIED:20240202T213028Z
UID:10005267-1826784000-1826787600@allsaintsfl.org
SUMMARY:Sunday Morning Holy Eucharist 8:00 AM (In-person; Not livestreamed)
DESCRIPTION:
URL:https://allsaintsfl.org/events/800-am-in-person-20211212/2027-11-21/
END:VEVENT
BEGIN:VEVENT
DTSTART;TZID=America/New_York:20271121T103000
DTEND;TZID=America/New_York:20271121T120000
DTSTAMP:20260421T175929
CREATED:20231204T223602Z
LAST-MODIFIED:20241028T172255Z
UID:10005529-1826793000-1826798400@allsaintsfl.org
SUMMARY:Sunday Morning Holy Eucharist 10:30 AM (In-person; Livestreamed)
DESCRIPTION:Check Home Page for link to this service.
URL:https://allsaintsfl.org/events/sunday-morning-holy-eucharist-1030-am-in-person-livestreamed/2027-11-21/
END:VEVENT
BEGIN:VEVENT
DTSTART;TZID=America/New_York:20271121T120000
DTEND;TZID=America/New_York:20271121T130000
DTSTAMP:20260421T175929
CREATED:20240805T180105Z
LAST-MODIFIED:20241024T163659Z
UID:10007878-1826798400-1826802000@allsaintsfl.org
SUMMARY:Sunday Reflections  Group
DESCRIPTION:New for the Fall: Sunday Reflections group \n \nJoin us every Sunday after the 10:30 a.m. service as we delve into the Sunday scriptures and sermons in our program designed for those from all backgrounds and levels of experience. You can come as often as you like. All you need to participate is a willingness to share your insights and perspectives on the Scriptures and an openness to exploring how the readings and sermons from the Sunday services can be applied to our lives. Bring your bulletin so we can refer back to the readings together in our discussion. This program will start on Sunday\, September 15\, 2024 and continue every Sunday thereafter. \nBenefits: \n\nDeepen your understanding and appreciation of the relevance of the scriptures today.\nConnect with others in a supportive environment.\nGain practical insights on how to apply the Sunday scriptures and sermons to your daily life.
URL:https://allsaintsfl.org/events/sunday-reflections-group/2027-11-21/
CATEGORIES:Events
END:VEVENT
BEGIN:VEVENT
DTSTART;TZID=America/New_York:20271121T203000
DTEND;TZID=America/New_York:20271121T210000
DTSTAMP:20260421T175929
CREATED:20240213T192859Z
LAST-MODIFIED:20240213T193313Z
UID:10006065-1826829000-1826830800@allsaintsfl.org
SUMMARY:Compline (Prayers at the end of day) – Live-streamed each night except Thursday
DESCRIPTION:Join us for evening prayer on FaceBook Live or on Vimeo.  Go to https://facebook.com/asecfl and scroll down until you see “LIVE” or join us on  All Saints’ Vimeo Page at https://vimeo.com/allsaintsftl
URL:https://allsaintsfl.org/events/compline-prayers-at-the-end-of-day-live-streamed-each-night-except-thursday-8-2/2027-11-21/
CATEGORIES:Worship
END:VEVENT
BEGIN:VEVENT
DTSTART;TZID=America/New_York:20271122T203000
DTEND;TZID=America/New_York:20271122T210000
DTSTAMP:20260421T175929
CREATED:20240213T192859Z
LAST-MODIFIED:20240213T193313Z
UID:10007151-1826915400-1826917200@allsaintsfl.org
SUMMARY:Compline (Prayers at the end of day) – Live-streamed each night except Thursday
DESCRIPTION:Join us for evening prayer on FaceBook Live or on Vimeo.  Go to https://facebook.com/asecfl and scroll down until you see “LIVE” or join us on  All Saints’ Vimeo Page at https://vimeo.com/allsaintsftl
URL:https://allsaintsfl.org/events/compline-prayers-at-the-end-of-day-live-streamed-each-night-except-thursday-8-2/2027-11-22/
CATEGORIES:Worship
END:VEVENT
BEGIN:VEVENT
DTSTART;TZID=America/New_York:20271123T183000
DTEND;TZID=America/New_York:20271123T200000
DTSTAMP:20260421T175929
CREATED:20241028T175041Z
LAST-MODIFIED:20241028T175041Z
UID:10008431-1826994600-1827000000@allsaintsfl.org
SUMMARY:Vestry Meeting
DESCRIPTION:The vestry holds its monthly meeting on the 4th Tuesday of each month @ 6:30 p.m. in Neaverson Chapel.\nVestry meetings are open to all. However\, please note that Robert’s rules are followed. \nThe meeting may be available on Zoom.  Check with the office if interested in watching.
URL:https://allsaintsfl.org/events/vestry-meeting/2027-11-23/
END:VEVENT
BEGIN:VEVENT
DTSTART;TZID=America/New_York:20271123T203000
DTEND;TZID=America/New_York:20271123T210000
DTSTAMP:20260421T175929
CREATED:20240213T192859Z
LAST-MODIFIED:20240213T193313Z
UID:10007152-1827001800-1827003600@allsaintsfl.org
SUMMARY:Compline (Prayers at the end of day) – Live-streamed each night except Thursday
DESCRIPTION:Join us for evening prayer on FaceBook Live or on Vimeo.  Go to https://facebook.com/asecfl and scroll down until you see “LIVE” or join us on  All Saints’ Vimeo Page at https://vimeo.com/allsaintsftl
URL:https://allsaintsfl.org/events/compline-prayers-at-the-end-of-day-live-streamed-each-night-except-thursday-8-2/2027-11-23/
CATEGORIES:Worship
END:VEVENT
BEGIN:VEVENT
DTSTART;TZID=America/New_York:20271124T120000
DTEND;TZID=America/New_York:20271124T130000
DTSTAMP:20260421T175929
CREATED:20231021T162524Z
LAST-MODIFIED:20240213T192227Z
UID:10002271-1827057600-1827061200@allsaintsfl.org
SUMMARY:Wednesday Healing Eucharist
DESCRIPTION:Join us each Wednesday at 12:05 p.m. for a special service of prayer for healing followed by the Holy Eucharist.  This service is held in St. Luke’s chapel on the river side of the church. \nYou may attend in person or via livestream on Vimeo and Facebook Live.  The links for the livestream are posted on the Home Page each week.
URL:https://allsaintsfl.org/events/wednesday-healing-eucharist-2/2027-11-24/
LOCATION:St. Luke’s Chapel
CATEGORIES:Events,Worship
END:VEVENT
BEGIN:VEVENT
DTSTART;TZID=America/New_York:20271124T203000
DTEND;TZID=America/New_York:20271124T210000
DTSTAMP:20260421T175929
CREATED:20240213T192859Z
LAST-MODIFIED:20240213T193313Z
UID:10007153-1827088200-1827090000@allsaintsfl.org
SUMMARY:Compline (Prayers at the end of day) – Live-streamed each night except Thursday
DESCRIPTION:Join us for evening prayer on FaceBook Live or on Vimeo.  Go to https://facebook.com/asecfl and scroll down until you see “LIVE” or join us on  All Saints’ Vimeo Page at https://vimeo.com/allsaintsftl
URL:https://allsaintsfl.org/events/compline-prayers-at-the-end-of-day-live-streamed-each-night-except-thursday-8-2/2027-11-24/
CATEGORIES:Worship
END:VEVENT
BEGIN:VEVENT
DTSTART;TZID=America/New_York:20271125T183000
DTEND;TZID=America/New_York:20271125T190000
DTSTAMP:20260421T175929
CREATED:20200219T220329Z
LAST-MODIFIED:20231205T154906Z
UID:10004649-1827167400-1827169200@allsaintsfl.org
SUMMARY:Vespers (Evening Prayer) - Livestreamed
DESCRIPTION:Join us for evening prayer on FaceBook Live or on Vimeo.  Go to https://facebook.com/asecfl and scroll down until you see “LIVE” or join us on  All Saints’ Vimeo Page at https://vimeo\,com/allsaintsftl
URL:https://allsaintsfl.org/events/vespers-2020-10-15-2022-06-16/2027-11-25/
END:VEVENT
BEGIN:VEVENT
DTSTART;TZID=America/New_York:20271126T203000
DTEND;TZID=America/New_York:20271126T210000
DTSTAMP:20260421T175929
CREATED:20240213T192859Z
LAST-MODIFIED:20240213T193313Z
UID:10007154-1827261000-1827262800@allsaintsfl.org
SUMMARY:Compline (Prayers at the end of day) – Live-streamed each night except Thursday
DESCRIPTION:Join us for evening prayer on FaceBook Live or on Vimeo.  Go to https://facebook.com/asecfl and scroll down until you see “LIVE” or join us on  All Saints’ Vimeo Page at https://vimeo.com/allsaintsftl
URL:https://allsaintsfl.org/events/compline-prayers-at-the-end-of-day-live-streamed-each-night-except-thursday-8-2/2027-11-26/
CATEGORIES:Worship
END:VEVENT
BEGIN:VEVENT
DTSTART;TZID=America/New_York:20271127T203000
DTEND;TZID=America/New_York:20271127T210000
DTSTAMP:20260421T175929
CREATED:20240213T192859Z
LAST-MODIFIED:20240213T193313Z
UID:10007155-1827347400-1827349200@allsaintsfl.org
SUMMARY:Compline (Prayers at the end of day) – Live-streamed each night except Thursday
DESCRIPTION:Join us for evening prayer on FaceBook Live or on Vimeo.  Go to https://facebook.com/asecfl and scroll down until you see “LIVE” or join us on  All Saints’ Vimeo Page at https://vimeo.com/allsaintsftl
URL:https://allsaintsfl.org/events/compline-prayers-at-the-end-of-day-live-streamed-each-night-except-thursday-8-2/2027-11-27/
CATEGORIES:Worship
END:VEVENT
BEGIN:VEVENT
DTSTART;TZID=America/New_York:20271128T080000
DTEND;TZID=America/New_York:20271128T090000
DTSTAMP:20260421T175929
CREATED:20211206T204051Z
LAST-MODIFIED:20240202T213028Z
UID:10005268-1827388800-1827392400@allsaintsfl.org
SUMMARY:Sunday Morning Holy Eucharist 8:00 AM (In-person; Not livestreamed)
DESCRIPTION:
URL:https://allsaintsfl.org/events/800-am-in-person-20211212/2027-11-28/
END:VEVENT
BEGIN:VEVENT
DTSTART;TZID=America/New_York:20271128T103000
DTEND;TZID=America/New_York:20271128T120000
DTSTAMP:20260421T175929
CREATED:20231204T223602Z
LAST-MODIFIED:20241028T172255Z
UID:10005530-1827397800-1827403200@allsaintsfl.org
SUMMARY:Sunday Morning Holy Eucharist 10:30 AM (In-person; Livestreamed)
DESCRIPTION:Check Home Page for link to this service.
URL:https://allsaintsfl.org/events/sunday-morning-holy-eucharist-1030-am-in-person-livestreamed/2027-11-28/
END:VEVENT
BEGIN:VEVENT
DTSTART;TZID=America/New_York:20271128T120000
DTEND;TZID=America/New_York:20271128T130000
DTSTAMP:20260421T175929
CREATED:20240805T180105Z
LAST-MODIFIED:20241024T163659Z
UID:10007879-1827403200-1827406800@allsaintsfl.org
SUMMARY:Sunday Reflections  Group
DESCRIPTION:New for the Fall: Sunday Reflections group \n \nJoin us every Sunday after the 10:30 a.m. service as we delve into the Sunday scriptures and sermons in our program designed for those from all backgrounds and levels of experience. You can come as often as you like. All you need to participate is a willingness to share your insights and perspectives on the Scriptures and an openness to exploring how the readings and sermons from the Sunday services can be applied to our lives. Bring your bulletin so we can refer back to the readings together in our discussion. This program will start on Sunday\, September 15\, 2024 and continue every Sunday thereafter. \nBenefits: \n\nDeepen your understanding and appreciation of the relevance of the scriptures today.\nConnect with others in a supportive environment.\nGain practical insights on how to apply the Sunday scriptures and sermons to your daily life.
URL:https://allsaintsfl.org/events/sunday-reflections-group/2027-11-28/
CATEGORIES:Events
END:VEVENT
BEGIN:VEVENT
DTSTART;TZID=America/New_York:20271128T203000
DTEND;TZID=America/New_York:20271128T210000
DTSTAMP:20260421T175929
CREATED:20240213T192859Z
LAST-MODIFIED:20240213T193313Z
UID:10006066-1827433800-1827435600@allsaintsfl.org
SUMMARY:Compline (Prayers at the end of day) – Live-streamed each night except Thursday
DESCRIPTION:Join us for evening prayer on FaceBook Live or on Vimeo.  Go to https://facebook.com/asecfl and scroll down until you see “LIVE” or join us on  All Saints’ Vimeo Page at https://vimeo.com/allsaintsftl
URL:https://allsaintsfl.org/events/compline-prayers-at-the-end-of-day-live-streamed-each-night-except-thursday-8-2/2027-11-28/
CATEGORIES:Worship
END:VEVENT
BEGIN:VEVENT
DTSTART;TZID=America/New_York:20271129T203000
DTEND;TZID=America/New_York:20271129T210000
DTSTAMP:20260421T175929
CREATED:20240213T192859Z
LAST-MODIFIED:20240213T193313Z
UID:10007156-1827520200-1827522000@allsaintsfl.org
SUMMARY:Compline (Prayers at the end of day) – Live-streamed each night except Thursday
DESCRIPTION:Join us for evening prayer on FaceBook Live or on Vimeo.  Go to https://facebook.com/asecfl and scroll down until you see “LIVE” or join us on  All Saints’ Vimeo Page at https://vimeo.com/allsaintsftl
URL:https://allsaintsfl.org/events/compline-prayers-at-the-end-of-day-live-streamed-each-night-except-thursday-8-2/2027-11-29/
CATEGORIES:Worship
END:VEVENT
BEGIN:VEVENT
DTSTART;TZID=America/New_York:20271130T203000
DTEND;TZID=America/New_York:20271130T210000
DTSTAMP:20260421T175929
CREATED:20240213T192859Z
LAST-MODIFIED:20240213T193313Z
UID:10007157-1827606600-1827608400@allsaintsfl.org
SUMMARY:Compline (Prayers at the end of day) – Live-streamed each night except Thursday
DESCRIPTION:Join us for evening prayer on FaceBook Live or on Vimeo.  Go to https://facebook.com/asecfl and scroll down until you see “LIVE” or join us on  All Saints’ Vimeo Page at https://vimeo.com/allsaintsftl
URL:https://allsaintsfl.org/events/compline-prayers-at-the-end-of-day-live-streamed-each-night-except-thursday-8-2/2027-11-30/
CATEGORIES:Worship
END:VEVENT
END:VCALENDAR